{"text_format":"1","workbook":"xlsx","n_sheets":3,"sheets":["Simulation retraite","Détails projection","Para_simu"],"not_rendered":{"charts":0,"images":2,"macros":1,"external_links":2,"defined_names":19,"comments":0,"pivot_tables":0},"unopened":[],"bounds":{"document_bytes":16777216,"sheet_cells":100000,"rows_first":2000,"rows_last":500,"rows_between":2000,"halvings":0,"cell_chars":16384,"cell_head_chars":4096},"cells_cut":0,"cells_raw":0,"read":"whole","date_system":"1900"}

{"sheet":"Simulation retraite","index":0,"n_rows":32,"n_cols":9,"rows_kept":32,"cut":false,"hidden":false,"merged":[[11,0,11,3],[3,0,3,3],[31,0,31,3],[29,0,29,3],[1,0,1,3]]}
[]
["Plan Epargne+"]
[]
["Données de base (remplir uniquement les cases grisées)"]
["Informations personnelles au","2022-01-01",{"$f":"IF(OR(DAY(B5)<>1,MONTH(B5)<>1),\"**\",\"\")","v":""}]
["Date de naissance","1985-07-01"]
["Collectif","Base"]
["Traitement cotisant",75000]
[]
[{"$f":"\"Date de retraite (\"&IF(B7=\"Base\",64,61)&\" ans)\"","v":"Date de retraite (64 ans)"},{"$f":"EDATE(EOMONTH($B$6,0)+1,12*IF($B$7=\"PPP\",61,64))","v":"2049-08-01"},{"$f":"IF(B7=\"Base\",64,61)&\" ans\"","v":"64 ans"}]
[]
["Comparaison des cotisations et prestations",null,null,null,null,null,"Taux de conversion",{"$f":"IF(B7=\"PPP\",4.97%,5.41%)","v":5.4100000000000002E-2}]
[]
[null,{"$f":"IF($B$7=\"Base\",\"Base\",\"PPP\")","v":"Base"},{"$f":"IF($B$7=\"Base\",\"Base Epargne+\",\"PPP Epargne+\")","v":"Base Epargne+"},"Différence",null,null,"Date début","2023-01-01","début 01.01.2022 mais intérêt 0.25% en 2022"]
["Cotisations de l'assuré",null,null,null,null,null,"Date retraite",{"$f":"EDATE(EOMONTH($B$6,0)+1,12*IF($B$7=\"PPP\",61,64))","v":"2049-08-01"}]
["Montant de la cotisation annuelle",{"$f":"B17*12","v":7012.7999999999993},{"$f":"C17*12","v":7762.8000000000011},{"$f":"C16-B16","v":750.00000000000182},{"$f":"CEILING(B8*1%/12,0.05)*12-D16","v":-1.8189894035458565E-12},null,"cot annuelle sup",{"$f":"CEILING(B8*1%/12,0.05)*12","v":750}]
["Montant de la cotisation mensuelle",{"$f":"CEILING(IF(YEAR($B$5)<2023,IF($B$7=\"Base\",VLOOKUP(YEAR($B$5)-YEAR($B$6),Para_simu!$P$1:$X$55,2,FALSE),VLOOKUP(YEAR($B$5)-YEAR($B$6),Para_simu!$P$1:$X$55,3,FALSE)),IF($B$7=\"Base\",VLOOKUP(YEAR($B$5)-YEAR($B$6),Para_simu!$P$1:$X$55,4,FALSE),VLOOKUP(YEAR($B$5)-YEAR($B$6),Para_simu!$P$1:$X$55,5,FALSE)))*$B$8/12,0.05)","v":584.4},{"$f":"CEILING(IF(YEAR($B$5)<2023,IF($B$7=\"Base\",VLOOKUP(YEAR($B$5)-YEAR($B$6),Para_simu!$P$1:$X$55,6,FALSE),VLOOKUP(YEAR($B$5)-YEAR($B$6),Para_simu!$P$1:$X$55,7,FALSE)),IF($B$7=\"Base\",VLOOKUP(YEAR($B$5)-YEAR($B$6),Para_simu!$P$1:$X$55,8,FALSE),VLOOKUP(YEAR($B$5)-YEAR($B$6),Para_simu!$P$1:$X$55,9,FALSE)))*$B$8/12,0.05)","v":646.90000000000009},{"$f":"C17-B17","v":62.500000000000114},{"$f":"CEILING(B8*1%/12,0.05)-D17","v":-1.1368683772161603E-13},null,"1ère année cot",{"$f":"$H$16*(1+$F$26)*(1+$F$27)^H18","v":1201.3583730472637},"car intérêt 0.25% en 2022"]
[null,null,null,null,null,null,"nb année ",{"$f":"(YEARFRAC(H14,H15))","v":26.583333333333332}]
["Total des cotisations supplémentaires jusqu'à la retraite",null,null,{"$f":"YEARFRAC($B$5,$B$10)*D16","v":20687.500000000051},null,null,null,{"$f":"(((1+F27)^INT($H$18))-1)/(F27/(1+F27))","v":33.140422381303992}]
[null,null,null,null,null,null,null,{"$f":"H19/((1+$F$27)^(INT(H18)+1-H18))","v":32.901727301987293}]
["Prestations",null,null,null,null,null,null,{"$f":"H17+H20*H16+(H18-INT(H18))*H16","v":26315.153849537735}]
["Avoir de vieillesse supplémentaire à la retraite",null,null,{"$f":"MAX('Détails projection'!$H:$H)","v":26304.850000000002},"Taux d'intérêt"]
[null,null,null,null,2019,2.2499999999999999E-2]
["Amélioration des prestations annuelles",null,null,null,2020,2.5000000000000001E-2]
[{"$f":"\"Rente de retraite à \"&$C$10","v":"Rente de retraite à 64 ans"},null,null,{"$f":"CEILING(MAX('Détails projection'!$H:$H)*$H$12/12,0.05)*12","v":1423.2},2021,0.05]
["Rente d'invalidité",null,null,{"$f":"CEILING(MAX('Détails projection'!$H:$H)*$H$12/12,0.05)*12","v":1423.2},2022,0.01]
["Rente de conjoint survivant",null,null,{"$f":"CEILING($D$26*60%/12,0.05)*12","v":854.40000000000009},"proj. Retraite",1.7500000000000002E-2]
["Rente d'enfant",null,null,{"$f":"CEILING($D$26*20%/12,0.05)*12","v":285},"proj. Invalidité",1.7500000000000002E-2]
[]
["* Les calculs tiennent compte d'un taux d'intérêt de 1% en 2022 et d'une hypothèse d'intérêt de 1.75% pour les années suivantes."]
[{"$f":"IF(C5=\"**\",\"** En raison des intérêts, le montant de la rente peut varier de quelques francs si les données renseignées ne sont pas au 01.01.\",\"\")","v":""}]
["Les informations contenues sur ce document ne sont fournies qu'à titre indicatif. L'exhaustivité des montants n'est garantie que sur les documents émis par la Caisse."]

{"sheet":"Détails projection","index":1,"n_rows":54,"n_cols":17,"rows_kept":54,"cut":false,"hidden":true,"merged":[]}
["Détails avoir vieillesse",null,null,{"$f":"'Simulation retraite'!$F$27","v":1.7500000000000002E-2},null,null,0.01,null,null,"Détails avoir vieillesse (pour RI)",null,null,null,{"$f":"'Simulation retraite'!$F$28","v":1.7500000000000002E-2},null,0.01]
["Date","Age LPP","Nb jours","Intérêts","Taux de bonif","Montant bonif","Avoir vieillesse sans intérêt","Avoir vieillesse",null,"Date","Age LPP","Nb jours","Intérêts","Taux de bonif","Montant bonif","Avoir vieillesse sans intérêt","Avoir vieillesse"]
[]
[{"$f":"'Simulation retraite'!$B$5","v":"2022-01-01"},null,null,null,null,null,null,null,null,{"$f":"'Simulation retraite'!$B$5","v":"2022-01-01"},null,null,null,null,null,{"$f":"'Simulation retraite'!#REF!","v":{"$error":"#REF!"}},{"$f":"'Simulation retraite'!#REF!","v":{"$error":"#REF!"}}]
[{"$f":"IF(A4=\"\",\"\",IF(YEAR('Simulation retraite'!$H$15)=YEAR(A4),'Simulation retraite'!$H$15,IF(YEAR('Simulation retraite'!$H$15)-1<YEAR(A4),\"\",EOMONTH(A4,(12-MONTH(A4))))))","v":"2022-12-31"},{"$f":"IF(A5=\"\",\"\",YEAR(A5)-YEAR('Simulation retraite'!$B$6))","v":37},{"$f":"IF(AND(DAY(A5)=1,YEAR(A5)<>YEAR('Simulation retraite'!$H$15)),DAYS360(A4,A5)-1,DAYS360(A4,A5))","v":360},{"$f":"IF(A5=\"\",\"\",IF(YEAR(A5)=2019,CEILING('Simulation retraite'!$F$23*H4*C5/360,0.05),IF(YEAR(A5)=2020,CEILING(H4*'Simulation retraite'!$F$24*C5/360,0.05),IF(YEAR(A5)=2021,CEILING(H4*'Simulation retraite'!$F$25*C5/360,0.05),IF(YEAR(A5)=2022,CEILING(H4*'Simulation retraite'!$F$26*C5/360,0.05),CEILING(H4*'Simulation retraite'!$F$27*C5/360,0.05))))))","v":0},{"$f":"IF(A5=\"\",\"\",1%)","v":0.01},{"$f":"CEILING(E5*'Simulation retraite'!$B$8/12,0.05)*12*(C5/360)","v":750},{"$f":"IF(A5=\"\",\"\",CEILING(G4+F5,0.05))","v":750},{"$f":"IF(A5=\"\",\"\",CEILING(H4+D5+F5,0.05))","v":750},null,{"$f":"IF(J4=\"\",\"\",IF(YEAR('Simulation retraite'!$H$15)=YEAR(J4),'Simulation retraite'!$H$15,IF(YEAR('Simulation retraite'!$H$15)-1<YEAR(J4),\"\",EOMONTH(J4,(12-MONTH(J4))))))","v":"2022-12-31"},{"$f":"IF(J5=\"\",\"\",YEAR(J5)-YEAR('Simulation retraite'!$B$6))","v":37},{"$f":"IF(AND(DAY(J5)=1,YEAR(J5)<>YEAR('Simulation retraite'!$H$15)),DAYS360(J4,J5)-1,DAYS360(J4,J5))","v":360},{"$f":"IF(J5=\"\",\"\",IF(YEAR(J5)=2019,CEILING('Simulation retraite'!$F$23*Q4*L5/360,0.05),IF(YEAR(J5)=2020,CEILING(Q4*'Simulation retraite'!$F$24*L5/360,0.05),IF(YEAR(J5)=2021,CEILING(Q4*'Simulation retraite'!$F$25*L5/360,0.05),IF(YEAR(J5)=2022,CEILING(Q4*'Simulation retraite'!$F$26*L5/360,0.05),(CEILING(Q4*'Simulation retraite'!$F$28*L5/360,0.05)))))))","v":{"$error":"#REF!"}},{"$f":"IF(J5=\"\",\"\",1%)","v":0.01},{"$f":"CEILING(N5*'Simulation retraite'!$B$8/12,0.05)*12*(L5/360)","v":750},{"$f":"IF(J5=\"\",\"\",CEILING(P4+O5,0.05))","v":{"$error":"#REF!"}},{"$f":"IF(J5=\"\",\"\",CEILING(Q4+M5+O5,0.05))","v":{"$error":"#REF!"}}]
[{"$f":"IF(A5=\"\",\"\",IF(YEAR('Simulation retraite'!$H$15)-1=YEAR(A5),'Simulation retraite'!$H$15,IF(YEAR('Simulation retraite'!$H$15)-1<YEAR(A5),\"\",(EDATE(A5,12)))))","v":"2023-12-31"},{"$f":"IF(A6=\"\",\"\",YEAR(A6)-YEAR('Simulation retraite'!$B$6))","v":38},{"$f":"IF(A6=\"\",\"\",IF(DAY(A6)=1,DAYS360(A5,A6)-1,DAYS360(A5,A6)))","v":360},{"$f":"IF(A6=\"\",\"\",IF(YEAR(A6)=2020,CEILING(H5*'Simulation retraite'!$F$24*C6/360,0.05),IF(YEAR(A6)=2021,CEILING(H5*'Simulation retraite'!$F$25*C6/360,0.05),IF(YEAR(A6)=2022,CEILING(H5*'Simulation retraite'!$F$25*C6/360,0.05),CEILING(H5*'Simulation retraite'!$F$27*C6/360,0.05)))))","v":13.15},{"$f":"IF(A6=\"\",\"\",1%)","v":0.01},{"$f":"IF(A6=\"\",\"\",CEILING(E6*'Simulation retraite'!$B$8/12,0.05)*12*(C6/360))","v":750},1500,{"$f":"IF(A6=\"\",\"\",CEILING(H5+D6+F6,0.05))","v":1513.15},null,{"$f":"IF(J5=\"\",\"\",IF(YEAR('Simulation retraite'!$H$15)-1=YEAR(J5),'Simulation retraite'!$H$15,IF(YEAR('Simulation retraite'!$H$15)-1<YEAR(J5),\"\",(EDATE(J5,12)))))","v":"2023-12-31"},{"$f":"IF(J6=\"\",\"\",YEAR(J6)-YEAR('Simulation retraite'!$B$6))","v":38},{"$f":"IF(J6=\"\",\"\",IF(DAY(J6)=1,DAYS360(J5,J6)-1,DAYS360(J5,J6)))","v":360},{"$f":"IF(J6=\"\",\"\",CEILING(Q5*'Simulation retraite'!$F$28*L6/360,0.05))","v":{"$error":"#REF!"}},{"$f":"IF(J6=\"\",\"\",1%)","v":0.01},{"$f":"IF(J6=\"\",\"\",CEILING(N6*'Simulation retraite'!$B$8/12,0.05)*12*(L6/360))","v":750},{"$error":"#REF!"},{"$error":"#REF!"}]
[{"$f":"IF(A6=\"\",\"\",IF(YEAR('Simulation retraite'!$H$15)-1=YEAR(A6),'Simulation retraite'!$H$15,IF(YEAR('Simulation retraite'!$H$15)-1<YEAR(A6),\"\",(EDATE(A6,12)))))","v":"2024-12-31"},{"$f":"IF(A7=\"\",\"\",YEAR(A7)-YEAR('Simulation retraite'!$B$6))","v":39},360,{"$f":"IF(A7=\"\",\"\",IF(YEAR(A7)=2021,CEILING(H6*'Simulation retraite'!$F$25*C7/360,0.05),IF(YEAR(A7)=2022,CEILING(H6*'Simulation retraite'!$F$26*C7/360,0.05),CEILING(H6*'Simulation retraite'!$F$27*C7/360,0.05))))","v":26.5},0.01,{"$f":"IF(A7=\"\",\"\",CEILING(E7*'Simulation retraite'!$B$8/12,0.05)*12*(C7/360))","v":750},2250,2289.65,null,{"$f":"IF(J6=\"\",\"\",IF(YEAR('Simulation retraite'!$H$15)-1=YEAR(J6),'Simulation retraite'!$H$15,IF(YEAR('Simulation retraite'!$H$15)-1<YEAR(J6),\"\",(EDATE(J6,12)))))","v":"2024-12-31"},{"$f":"IF(J7=\"\",\"\",YEAR(J7)-YEAR('Simulation retraite'!$B$6))","v":39},360,{"$f":"IF(J7=\"\",\"\",CEILING(Q6*'Simulation retraite'!$F$28*L7/360,0.05))","v":{"$error":"#REF!"}},0.01,{"$f":"IF(J7=\"\",\"\",CEILING(N7*'Simulation retraite'!$B$8/12,0.05)*12*(L7/360))","v":750},{"$error":"#REF!"},{"$error":"#REF!"}]
[{"$f":"IF(A7=\"\",\"\",IF(YEAR('Simulation retraite'!$H$15)-1=YEAR(A7),'Simulation retraite'!$H$15,IF(YEAR('Simulation retraite'!$H$15)-1<YEAR(A7),\"\",(EDATE(A7,12)))))","v":"2025-12-31"},{"$f":"IF(A8=\"\",\"\",YEAR(A8)-YEAR('Simulation retraite'!$B$6))","v":40},360,{"$f":"IF(A8=\"\",\"\",CEILING(H7*'Simulation retraite'!$F$27*C8/360,0.05))","v":40.1},0.01,{"$f":"IF(A8=\"\",\"\",CEILING(E8*'Simulation retraite'!$B$8/12,0.05)*12*(C8/360))","v":750},3000,3079.75,null,{"$f":"IF(J7=\"\",\"\",IF(YEAR('Simulation retraite'!$H$15)-1=YEAR(J7),'Simulation retraite'!$H$15,IF(YEAR('Simulation retraite'!$H$15)-1<YEAR(J7),\"\",(EDATE(J7,12)))))","v":"2025-12-31"},{"$f":"IF(J8=\"\",\"\",YEAR(J8)-YEAR('Simulation retraite'!$B$6))","v":40},360,{"$f":"IF(J8=\"\",\"\",CEILING(Q7*'Simulation retraite'!$F$28*L8/360,0.05))","v":{"$error":"#REF!"}},0.01,{"$f":"IF(J8=\"\",\"\",CEILING(N8*'Simulation retraite'!$B$8/12,0.05)*12*(L8/360))","v":750},{"$error":"#REF!"},{"$error":"#REF!"}]
[{"$f":"IF(A8=\"\",\"\",IF(YEAR('Simulation retraite'!$H$15)-1=YEAR(A8),'Simulation retraite'!$H$15,IF(YEAR('Simulation retraite'!$H$15)-1<YEAR(A8),\"\",(EDATE(A8,12)))))","v":"2026-12-31"},{"$f":"IF(A9=\"\",\"\",YEAR(A9)-YEAR('Simulation retraite'!$B$6))","v":41},360,{"$f":"IF(A9=\"\",\"\",CEILING(H8*'Simulation retraite'!$F$27*C9/360,0.05))","v":53.900000000000006},0.01,{"$f":"IF(A9=\"\",\"\",CEILING(E9*'Simulation retraite'!$B$8/12,0.05)*12*(C9/360))","v":750},3750,3883.65,null,{"$f":"IF(J8=\"\",\"\",IF(YEAR('Simulation retraite'!$H$15)-1=YEAR(J8),'Simulation retraite'!$H$15,IF(YEAR('Simulation retraite'!$H$15)-1<YEAR(J8),\"\",(EDATE(J8,12)))))","v":"2026-12-31"},{"$f":"IF(J9=\"\",\"\",YEAR(J9)-YEAR('Simulation retraite'!$B$6))","v":41},360,{"$f":"IF(J9=\"\",\"\",CEILING(Q8*'Simulation retraite'!$F$28*L9/360,0.05))","v":{"$error":"#REF!"}},0.01,{"$f":"IF(J9=\"\",\"\",CEILING(N9*'Simulation retraite'!$B$8/12,0.05)*12*(L9/360))","v":750},{"$error":"#REF!"},{"$error":"#REF!"}]
[{"$f":"IF(A9=\"\",\"\",IF(YEAR('Simulation retraite'!$H$15)-1=YEAR(A9),'Simulation retraite'!$H$15,IF(YEAR('Simulation retraite'!$H$15)-1<YEAR(A9),\"\",(EDATE(A9,12)))))","v":"2027-12-31"},{"$f":"IF(A10=\"\",\"\",YEAR(A10)-YEAR('Simulation retraite'!$B$6))","v":42},360,{"$f":"IF(A10=\"\",\"\",CEILING(H9*'Simulation retraite'!$F$27*C10/360,0.05))","v":68},0.01,{"$f":"IF(A10=\"\",\"\",CEILING(E10*'Simulation retraite'!$B$8/12,0.05)*12*(C10/360))","v":750},4500,4701.6500000000005,null,{"$f":"IF(J9=\"\",\"\",IF(YEAR('Simulation retraite'!$H$15)-1=YEAR(J9),'Simulation retraite'!$H$15,IF(YEAR('Simulation retraite'!$H$15)-1<YEAR(J9),\"\",(EDATE(J9,12)))))","v":"2027-12-31"},{"$f":"IF(J10=\"\",\"\",YEAR(J10)-YEAR('Simulation retraite'!$B$6))","v":42},360,{"$f":"IF(J10=\"\",\"\",CEILING(Q9*'Simulation retraite'!$F$28*L10/360,0.05))","v":{"$error":"#REF!"}},0.01,{"$f":"IF(J10=\"\",\"\",CEILING(N10*'Simulation retraite'!$B$8/12,0.05)*12*(L10/360))","v":750},{"$error":"#REF!"},{"$error":"#REF!"}]
[{"$f":"IF(A10=\"\",\"\",IF(YEAR('Simulation retraite'!$H$15)-1=YEAR(A10),'Simulation retraite'!$H$15,IF(YEAR('Simulation retraite'!$H$15)-1<YEAR(A10),\"\",(EDATE(A10,12)))))","v":"2028-12-31"},{"$f":"IF(A11=\"\",\"\",YEAR(A11)-YEAR('Simulation retraite'!$B$6))","v":43},360,{"$f":"IF(A11=\"\",\"\",CEILING(H10*'Simulation retraite'!$F$27*C11/360,0.05))","v":82.300000000000011},0.01,{"$f":"IF(A11=\"\",\"\",CEILING(E11*'Simulation retraite'!$B$8/12,0.05)*12*(C11/360))","v":750},5250,5533.9500000000007,null,{"$f":"IF(J10=\"\",\"\",IF(YEAR('Simulation retraite'!$H$15)-1=YEAR(J10),'Simulation retraite'!$H$15,IF(YEAR('Simulation retraite'!$H$15)-1<YEAR(J10),\"\",(EDATE(J10,12)))))","v":"2028-12-31"},{"$f":"IF(J11=\"\",\"\",YEAR(J11)-YEAR('Simulation retraite'!$B$6))","v":43},360,{"$f":"IF(J11=\"\",\"\",CEILING(Q10*'Simulation retraite'!$F$28*L11/360,0.05))","v":{"$error":"#REF!"}},0.01,{"$f":"IF(J11=\"\",\"\",CEILING(N11*'Simulation retraite'!$B$8/12,0.05)*12*(L11/360))","v":750},{"$error":"#REF!"},{"$error":"#REF!"}]
[{"$f":"IF(A11=\"\",\"\",IF(YEAR('Simulation retraite'!$H$15)-1=YEAR(A11),'Simulation retraite'!$H$15,IF(YEAR('Simulation retraite'!$H$15)-1<YEAR(A11),\"\",(EDATE(A11,12)))))","v":"2029-12-31"},{"$f":"IF(A12=\"\",\"\",YEAR(A12)-YEAR('Simulation retraite'!$B$6))","v":44},360,{"$f":"IF(A12=\"\",\"\",CEILING(H11*'Simulation retraite'!$F$27*C12/360,0.05))","v":96.850000000000009},0.01,{"$f":"IF(A12=\"\",\"\",CEILING(E12*'Simulation retraite'!$B$8/12,0.05)*12*(C12/360))","v":750},6000,6380.8,null,{"$f":"IF(J11=\"\",\"\",IF(YEAR('Simulation retraite'!$H$15)-1=YEAR(J11),'Simulation retraite'!$H$15,IF(YEAR('Simulation retraite'!$H$15)-1<YEAR(J11),\"\",(EDATE(J11,12)))))","v":"2029-12-31"},{"$f":"IF(J12=\"\",\"\",YEAR(J12)-YEAR('Simulation retraite'!$B$6))","v":44},360,{"$f":"IF(J12=\"\",\"\",CEILING(Q11*'Simulation retraite'!$F$28*L12/360,0.05))","v":{"$error":"#REF!"}},0.01,{"$f":"IF(J12=\"\",\"\",CEILING(N12*'Simulation retraite'!$B$8/12,0.05)*12*(L12/360))","v":750},{"$error":"#REF!"},{"$error":"#REF!"}]
[{"$f":"IF(A12=\"\",\"\",IF(YEAR('Simulation retraite'!$H$15)-1=YEAR(A12),'Simulation retraite'!$H$15,IF(YEAR('Simulation retraite'!$H$15)-1<YEAR(A12),\"\",(EDATE(A12,12)))))","v":"2030-12-31"},{"$f":"IF(A13=\"\",\"\",YEAR(A13)-YEAR('Simulation retraite'!$B$6))","v":45},360,{"$f":"IF(A13=\"\",\"\",CEILING(H12*'Simulation retraite'!$F$27*C13/360,0.05))","v":111.7},0.01,{"$f":"IF(A13=\"\",\"\",CEILING(E13*'Simulation retraite'!$B$8/12,0.05)*12*(C13/360))","v":750},6750,7242.5,null,{"$f":"IF(J12=\"\",\"\",IF(YEAR('Simulation retraite'!$H$15)-1=YEAR(J12),'Simulation retraite'!$H$15,IF(YEAR('Simulation retraite'!$H$15)-1<YEAR(J12),\"\",(EDATE(J12,12)))))","v":"2030-12-31"},{"$f":"IF(J13=\"\",\"\",YEAR(J13)-YEAR('Simulation retraite'!$B$6))","v":45},360,{"$f":"IF(J13=\"\",\"\",CEILING(Q12*'Simulation retraite'!$F$28*L13/360,0.05))","v":{"$error":"#REF!"}},0.01,{"$f":"IF(J13=\"\",\"\",CEILING(N13*'Simulation retraite'!$B$8/12,0.05)*12*(L13/360))","v":750},{"$error":"#REF!"},{"$error":"#REF!"}]
[{"$f":"IF(A13=\"\",\"\",IF(YEAR('Simulation retraite'!$H$15)-1=YEAR(A13),'Simulation retraite'!$H$15,IF(YEAR('Simulation retraite'!$H$15)-1<YEAR(A13),\"\",(EDATE(A13,12)))))","v":"2031-12-31"},{"$f":"IF(A14=\"\",\"\",YEAR(A14)-YEAR('Simulation retraite'!$B$6))","v":46},360,{"$f":"IF(A14=\"\",\"\",CEILING(H13*'Simulation retraite'!$F$27*C14/360,0.05))","v":126.75},0.01,{"$f":"IF(A14=\"\",\"\",CEILING(E14*'Simulation retraite'!$B$8/12,0.05)*12*(C14/360))","v":750},7500,8119.25,null,{"$f":"IF(J13=\"\",\"\",IF(YEAR('Simulation retraite'!$H$15)-1=YEAR(J13),'Simulation retraite'!$H$15,IF(YEAR('Simulation retraite'!$H$15)-1<YEAR(J13),\"\",(EDATE(J13,12)))))","v":"2031-12-31"},{"$f":"IF(J14=\"\",\"\",YEAR(J14)-YEAR('Simulation retraite'!$B$6))","v":46},360,{"$f":"IF(J14=\"\",\"\",CEILING(Q13*'Simulation retraite'!$F$28*L14/360,0.05))","v":{"$error":"#REF!"}},0.01,{"$f":"IF(J14=\"\",\"\",CEILING(N14*'Simulation retraite'!$B$8/12,0.05)*12*(L14/360))","v":750},{"$error":"#REF!"},{"$error":"#REF!"}]
[{"$f":"IF(A14=\"\",\"\",IF(YEAR('Simulation retraite'!$H$15)-1=YEAR(A14),'Simulation retraite'!$H$15,IF(YEAR('Simulation retraite'!$H$15)-1<YEAR(A14),\"\",(EDATE(A14,12)))))","v":"2032-12-31"},{"$f":"IF(A15=\"\",\"\",YEAR(A15)-YEAR('Simulation retraite'!$B$6))","v":47},360,{"$f":"IF(A15=\"\",\"\",CEILING(H14*'Simulation retraite'!$F$27*C15/360,0.05))","v":142.1},0.01,{"$f":"IF(A15=\"\",\"\",CEILING(E15*'Simulation retraite'!$B$8/12,0.05)*12*(C15/360))","v":750},8250,9011.35,null,{"$f":"IF(J14=\"\",\"\",IF(YEAR('Simulation retraite'!$H$15)-1=YEAR(J14),'Simulation retraite'!$H$15,IF(YEAR('Simulation retraite'!$H$15)-1<YEAR(J14),\"\",(EDATE(J14,12)))))","v":"2032-12-31"},{"$f":"IF(J15=\"\",\"\",YEAR(J15)-YEAR('Simulation retraite'!$B$6))","v":47},360,{"$f":"IF(J15=\"\",\"\",CEILING(Q14*'Simulation retraite'!$F$28*L15/360,0.05))","v":{"$error":"#REF!"}},0.01,{"$f":"IF(J15=\"\",\"\",CEILING(N15*'Simulation retraite'!$B$8/12,0.05)*12*(L15/360))","v":750},{"$error":"#REF!"},{"$error":"#REF!"}]
[{"$f":"IF(A15=\"\",\"\",IF(YEAR('Simulation retraite'!$H$15)-1=YEAR(A15),'Simulation retraite'!$H$15,IF(YEAR('Simulation retraite'!$H$15)-1<YEAR(A15),\"\",(EDATE(A15,12)))))","v":"2033-12-31"},{"$f":"IF(A16=\"\",\"\",YEAR(A16)-YEAR('Simulation retraite'!$B$6))","v":48},360,{"$f":"IF(A16=\"\",\"\",CEILING(H15*'Simulation retraite'!$F$27*C16/360,0.05))","v":157.70000000000002},0.01,{"$f":"IF(A16=\"\",\"\",CEILING(E16*'Simulation retraite'!$B$8/12,0.05)*12*(C16/360))","v":750},9000,9919.0500000000011,null,{"$f":"IF(J15=\"\",\"\",IF(YEAR('Simulation retraite'!$H$15)-1=YEAR(J15),'Simulation retraite'!$H$15,IF(YEAR('Simulation retraite'!$H$15)-1<YEAR(J15),\"\",(EDATE(J15,12)))))","v":"2033-12-31"},{"$f":"IF(J16=\"\",\"\",YEAR(J16)-YEAR('Simulation retraite'!$B$6))","v":48},360,{"$f":"IF(J16=\"\",\"\",CEILING(Q15*'Simulation retraite'!$F$28*L16/360,0.05))","v":{"$error":"#REF!"}},0.01,{"$f":"IF(J16=\"\",\"\",CEILING(N16*'Simulation retraite'!$B$8/12,0.05)*12*(L16/360))","v":750},{"$error":"#REF!"},{"$error":"#REF!"}]
[{"$f":"IF(A16=\"\",\"\",IF(YEAR('Simulation retraite'!$H$15)-1=YEAR(A16),'Simulation retraite'!$H$15,IF(YEAR('Simulation retraite'!$H$15)-1<YEAR(A16),\"\",(EDATE(A16,12)))))","v":"2034-12-31"},{"$f":"IF(A17=\"\",\"\",YEAR(A17)-YEAR('Simulation retraite'!$B$6))","v":49},360,{"$f":"IF(A17=\"\",\"\",CEILING(H16*'Simulation retraite'!$F$27*C17/360,0.05))","v":173.60000000000002},0.01,{"$f":"IF(A17=\"\",\"\",CEILING(E17*'Simulation retraite'!$B$8/12,0.05)*12*(C17/360))","v":750},9750,10842.650000000001,null,{"$f":"IF(J16=\"\",\"\",IF(YEAR('Simulation retraite'!$H$15)-1=YEAR(J16),'Simulation retraite'!$H$15,IF(YEAR('Simulation retraite'!$H$15)-1<YEAR(J16),\"\",(EDATE(J16,12)))))","v":"2034-12-31"},{"$f":"IF(J17=\"\",\"\",YEAR(J17)-YEAR('Simulation retraite'!$B$6))","v":49},360,{"$f":"IF(J17=\"\",\"\",CEILING(Q16*'Simulation retraite'!$F$28*L17/360,0.05))","v":{"$error":"#REF!"}},0.01,{"$f":"IF(J17=\"\",\"\",CEILING(N17*'Simulation retraite'!$B$8/12,0.05)*12*(L17/360))","v":750},{"$error":"#REF!"},{"$error":"#REF!"}]
[{"$f":"IF(A17=\"\",\"\",IF(YEAR('Simulation retraite'!$H$15)-1=YEAR(A17),'Simulation retraite'!$H$15,IF(YEAR('Simulation retraite'!$H$15)-1<YEAR(A17),\"\",(EDATE(A17,12)))))","v":"2035-12-31"},{"$f":"IF(A18=\"\",\"\",YEAR(A18)-YEAR('Simulation retraite'!$B$6))","v":50},360,{"$f":"IF(A18=\"\",\"\",CEILING(H17*'Simulation retraite'!$F$27*C18/360,0.05))","v":189.75},0.01,{"$f":"IF(A18=\"\",\"\",CEILING(E18*'Simulation retraite'!$B$8/12,0.05)*12*(C18/360))","v":750},10500,11782.400000000001,null,{"$f":"IF(J17=\"\",\"\",IF(YEAR('Simulation retraite'!$H$15)-1=YEAR(J17),'Simulation retraite'!$H$15,IF(YEAR('Simulation retraite'!$H$15)-1<YEAR(J17),\"\",(EDATE(J17,12)))))","v":"2035-12-31"},{"$f":"IF(J18=\"\",\"\",YEAR(J18)-YEAR('Simulation retraite'!$B$6))","v":50},360,{"$f":"IF(J18=\"\",\"\",CEILING(Q17*'Simulation retraite'!$F$28*L18/360,0.05))","v":{"$error":"#REF!"}},0.01,{"$f":"IF(J18=\"\",\"\",CEILING(N18*'Simulation retraite'!$B$8/12,0.05)*12*(L18/360))","v":750},{"$error":"#REF!"},{"$error":"#REF!"}]
[{"$f":"IF(A18=\"\",\"\",IF(YEAR('Simulation retraite'!$H$15)-1=YEAR(A18),'Simulation retraite'!$H$15,IF(YEAR('Simulation retraite'!$H$15)-1<YEAR(A18),\"\",(EDATE(A18,12)))))","v":"2036-12-31"},{"$f":"IF(A19=\"\",\"\",YEAR(A19)-YEAR('Simulation retraite'!$B$6))","v":51},360,{"$f":"IF(A19=\"\",\"\",CEILING(H18*'Simulation retraite'!$F$27*C19/360,0.05))","v":206.20000000000002},0.01,{"$f":"IF(A19=\"\",\"\",CEILING(E19*'Simulation retraite'!$B$8/12,0.05)*12*(C19/360))","v":750},11250,12738.6,null,{"$f":"IF(J18=\"\",\"\",IF(YEAR('Simulation retraite'!$H$15)-1=YEAR(J18),'Simulation retraite'!$H$15,IF(YEAR('Simulation retraite'!$H$15)-1<YEAR(J18),\"\",(EDATE(J18,12)))))","v":"2036-12-31"},{"$f":"IF(J19=\"\",\"\",YEAR(J19)-YEAR('Simulation retraite'!$B$6))","v":51},360,{"$f":"IF(J19=\"\",\"\",CEILING(Q18*'Simulation retraite'!$F$28*L19/360,0.05))","v":{"$error":"#REF!"}},0.01,{"$f":"IF(J19=\"\",\"\",CEILING(N19*'Simulation retraite'!$B$8/12,0.05)*12*(L19/360))","v":750},{"$error":"#REF!"},{"$error":"#REF!"}]
[{"$f":"IF(A19=\"\",\"\",IF(YEAR('Simulation retraite'!$H$15)-1=YEAR(A19),'Simulation retraite'!$H$15,IF(YEAR('Simulation retraite'!$H$15)-1<YEAR(A19),\"\",(EDATE(A19,12)))))","v":"2037-12-31"},{"$f":"IF(A20=\"\",\"\",YEAR(A20)-YEAR('Simulation retraite'!$B$6))","v":52},360,{"$f":"IF(A20=\"\",\"\",CEILING(H19*'Simulation retraite'!$F$27*C20/360,0.05))","v":222.95000000000002},0.01,{"$f":"IF(A20=\"\",\"\",CEILING(E20*'Simulation retraite'!$B$8/12,0.05)*12*(C20/360))","v":750},12000,13711.550000000001,null,{"$f":"IF(J19=\"\",\"\",IF(YEAR('Simulation retraite'!$H$15)-1=YEAR(J19),'Simulation retraite'!$H$15,IF(YEAR('Simulation retraite'!$H$15)-1<YEAR(J19),\"\",(EDATE(J19,12)))))","v":"2037-12-31"},{"$f":"IF(J20=\"\",\"\",YEAR(J20)-YEAR('Simulation retraite'!$B$6))","v":52},360,{"$f":"IF(J20=\"\",\"\",CEILING(Q19*'Simulation retraite'!$F$28*L20/360,0.05))","v":{"$error":"#REF!"}},0.01,{"$f":"IF(J20=\"\",\"\",CEILING(N20*'Simulation retraite'!$B$8/12,0.05)*12*(L20/360))","v":750},{"$error":"#REF!"},{"$error":"#REF!"}]
[{"$f":"IF(A20=\"\",\"\",IF(YEAR('Simulation retraite'!$H$15)-1=YEAR(A20),'Simulation retraite'!$H$15,IF(YEAR('Simulation retraite'!$H$15)-1<YEAR(A20),\"\",(EDATE(A20,12)))))","v":"2038-12-31"},{"$f":"IF(A21=\"\",\"\",YEAR(A21)-YEAR('Simulation retraite'!$B$6))","v":53},360,{"$f":"IF(A21=\"\",\"\",CEILING(H20*'Simulation retraite'!$F$27*C21/360,0.05))","v":240},0.01,{"$f":"IF(A21=\"\",\"\",CEILING(E21*'Simulation retraite'!$B$8/12,0.05)*12*(C21/360))","v":750},12750,14701.550000000001,null,{"$f":"IF(J20=\"\",\"\",IF(YEAR('Simulation retraite'!$H$15)-1=YEAR(J20),'Simulation retraite'!$H$15,IF(YEAR('Simulation retraite'!$H$15)-1<YEAR(J20),\"\",(EDATE(J20,12)))))","v":"2038-12-31"},{"$f":"IF(J21=\"\",\"\",YEAR(J21)-YEAR('Simulation retraite'!$B$6))","v":53},360,{"$f":"IF(J21=\"\",\"\",CEILING(Q20*'Simulation retraite'!$F$28*L21/360,0.05))","v":{"$error":"#REF!"}},0.01,{"$f":"IF(J21=\"\",\"\",CEILING(N21*'Simulation retraite'!$B$8/12,0.05)*12*(L21/360))","v":750},{"$error":"#REF!"},{"$error":"#REF!"}]
[{"$f":"IF(A21=\"\",\"\",IF(YEAR('Simulation retraite'!$H$15)-1=YEAR(A21),'Simulation retraite'!$H$15,IF(YEAR('Simulation retraite'!$H$15)-1<YEAR(A21),\"\",(EDATE(A21,12)))))","v":"2039-12-31"},{"$f":"IF(A22=\"\",\"\",YEAR(A22)-YEAR('Simulation retraite'!$B$6))","v":54},360,{"$f":"IF(A22=\"\",\"\",CEILING(H21*'Simulation retraite'!$F$27*C22/360,0.05))","v":257.3},0.01,{"$f":"IF(A22=\"\",\"\",CEILING(E22*'Simulation retraite'!$B$8/12,0.05)*12*(C22/360))","v":750},13500,15708.85,null,{"$f":"IF(J21=\"\",\"\",IF(YEAR('Simulation retraite'!$H$15)-1=YEAR(J21),'Simulation retraite'!$H$15,IF(YEAR('Simulation retraite'!$H$15)-1<YEAR(J21),\"\",(EDATE(J21,12)))))","v":"2039-12-31"},{"$f":"IF(J22=\"\",\"\",YEAR(J22)-YEAR('Simulation retraite'!$B$6))","v":54},360,{"$f":"IF(J22=\"\",\"\",CEILING(Q21*'Simulation retraite'!$F$28*L22/360,0.05))","v":{"$error":"#REF!"}},0.01,{"$f":"IF(J22=\"\",\"\",CEILING(N22*'Simulation retraite'!$B$8/12,0.05)*12*(L22/360))","v":750},{"$error":"#REF!"},{"$error":"#REF!"}]
[{"$f":"IF(A22=\"\",\"\",IF(YEAR('Simulation retraite'!$H$15)-1=YEAR(A22),'Simulation retraite'!$H$15,IF(YEAR('Simulation retraite'!$H$15)-1<YEAR(A22),\"\",(EDATE(A22,12)))))","v":"2040-12-31"},{"$f":"IF(A23=\"\",\"\",YEAR(A23)-YEAR('Simulation retraite'!$B$6))","v":55},360,{"$f":"IF(A23=\"\",\"\",CEILING(H22*'Simulation retraite'!$F$27*C23/360,0.05))","v":274.95},0.01,{"$f":"IF(A23=\"\",\"\",CEILING(E23*'Simulation retraite'!$B$8/12,0.05)*12*(C23/360))","v":750},14250,16733.8,null,{"$f":"IF(J22=\"\",\"\",IF(YEAR('Simulation retraite'!$H$15)-1=YEAR(J22),'Simulation retraite'!$H$15,IF(YEAR('Simulation retraite'!$H$15)-1<YEAR(J22),\"\",(EDATE(J22,12)))))","v":"2040-12-31"},{"$f":"IF(J23=\"\",\"\",YEAR(J23)-YEAR('Simulation retraite'!$B$6))","v":55},360,{"$f":"IF(J23=\"\",\"\",CEILING(Q22*'Simulation retraite'!$F$28*L23/360,0.05))","v":{"$error":"#REF!"}},0.01,{"$f":"IF(J23=\"\",\"\",CEILING(N23*'Simulation retraite'!$B$8/12,0.05)*12*(L23/360))","v":750},{"$error":"#REF!"},{"$error":"#REF!"}]
[{"$f":"IF(A23=\"\",\"\",IF(YEAR('Simulation retraite'!$H$15)-1=YEAR(A23),'Simulation retraite'!$H$15,IF(YEAR('Simulation retraite'!$H$15)-1<YEAR(A23),\"\",(EDATE(A23,12)))))","v":"2041-12-31"},{"$f":"IF(A24=\"\",\"\",YEAR(A24)-YEAR('Simulation retraite'!$B$6))","v":56},360,{"$f":"IF(A24=\"\",\"\",CEILING(H23*'Simulation retraite'!$F$27*C24/360,0.05))","v":292.85000000000002},0.01,{"$f":"IF(A24=\"\",\"\",CEILING(E24*'Simulation retraite'!$B$8/12,0.05)*12*(C24/360))","v":750},15000,17776.650000000001,null,{"$f":"IF(J23=\"\",\"\",IF(YEAR('Simulation retraite'!$H$15)-1=YEAR(J23),'Simulation retraite'!$H$15,IF(YEAR('Simulation retraite'!$H$15)-1<YEAR(J23),\"\",(EDATE(J23,12)))))","v":"2041-12-31"},{"$f":"IF(J24=\"\",\"\",YEAR(J24)-YEAR('Simulation retraite'!$B$6))","v":56},360,{"$f":"IF(J24=\"\",\"\",CEILING(Q23*'Simulation retraite'!$F$28*L24/360,0.05))","v":{"$error":"#REF!"}},0.01,{"$f":"IF(J24=\"\",\"\",CEILING(N24*'Simulation retraite'!$B$8/12,0.05)*12*(L24/360))","v":750},{"$error":"#REF!"},{"$error":"#REF!"}]
[{"$f":"IF(A24=\"\",\"\",IF(YEAR('Simulation retraite'!$H$15)-1=YEAR(A24),'Simulation retraite'!$H$15,IF(YEAR('Simulation retraite'!$H$15)-1<YEAR(A24),\"\",(EDATE(A24,12)))))","v":"2042-12-31"},{"$f":"IF(A25=\"\",\"\",YEAR(A25)-YEAR('Simulation retraite'!$B$6))","v":57},360,{"$f":"IF(A25=\"\",\"\",CEILING(H24*'Simulation retraite'!$F$27*C25/360,0.05))","v":311.10000000000002},0.01,{"$f":"IF(A25=\"\",\"\",CEILING(E25*'Simulation retraite'!$B$8/12,0.05)*12*(C25/360))","v":750},15750,18837.75,null,{"$f":"IF(J24=\"\",\"\",IF(YEAR('Simulation retraite'!$H$15)-1=YEAR(J24),'Simulation retraite'!$H$15,IF(YEAR('Simulation retraite'!$H$15)-1<YEAR(J24),\"\",(EDATE(J24,12)))))","v":"2042-12-31"},{"$f":"IF(J25=\"\",\"\",YEAR(J25)-YEAR('Simulation retraite'!$B$6))","v":57},360,{"$f":"IF(J25=\"\",\"\",CEILING(Q24*'Simulation retraite'!$F$28*L25/360,0.05))","v":{"$error":"#REF!"}},0.01,{"$f":"IF(J25=\"\",\"\",CEILING(N25*'Simulation retraite'!$B$8/12,0.05)*12*(L25/360))","v":750},{"$error":"#REF!"},{"$error":"#REF!"}]
[{"$f":"IF(A25=\"\",\"\",IF(YEAR('Simulation retraite'!$H$15)-1=YEAR(A25),'Simulation retraite'!$H$15,IF(YEAR('Simulation retraite'!$H$15)-1<YEAR(A25),\"\",(EDATE(A25,12)))))","v":"2043-12-31"},{"$f":"IF(A26=\"\",\"\",YEAR(A26)-YEAR('Simulation retraite'!$B$6))","v":58},360,{"$f":"IF(A26=\"\",\"\",CEILING(H25*'Simulation retraite'!$F$27*C26/360,0.05))","v":329.70000000000005},0.01,{"$f":"IF(A26=\"\",\"\",CEILING(E26*'Simulation retraite'!$B$8/12,0.05)*12*(C26/360))","v":750},16500,19917.45,null,{"$f":"IF(J25=\"\",\"\",IF(YEAR('Simulation retraite'!$H$15)-1=YEAR(J25),'Simulation retraite'!$H$15,IF(YEAR('Simulation retraite'!$H$15)-1<YEAR(J25),\"\",(EDATE(J25,12)))))","v":"2043-12-31"},{"$f":"IF(J26=\"\",\"\",YEAR(J26)-YEAR('Simulation retraite'!$B$6))","v":58},360,{"$f":"IF(J26=\"\",\"\",CEILING(Q25*'Simulation retraite'!$F$28*L26/360,0.05))","v":{"$error":"#REF!"}},0.01,{"$f":"IF(J26=\"\",\"\",CEILING(N26*'Simulation retraite'!$B$8/12,0.05)*12*(L26/360))","v":750},{"$error":"#REF!"},{"$error":"#REF!"}]
[{"$f":"IF(A26=\"\",\"\",IF(YEAR('Simulation retraite'!$H$15)-1=YEAR(A26),'Simulation retraite'!$H$15,IF(YEAR('Simulation retraite'!$H$15)-1<YEAR(A26),\"\",(EDATE(A26,12)))))","v":"2044-12-31"},{"$f":"IF(A27=\"\",\"\",YEAR(A27)-YEAR('Simulation retraite'!$B$6))","v":59},360,{"$f":"IF(A27=\"\",\"\",CEILING(H26*'Simulation retraite'!$F$27*C27/360,0.05))","v":348.6},0.01,{"$f":"IF(A27=\"\",\"\",CEILING(E27*'Simulation retraite'!$B$8/12,0.05)*12*(C27/360))","v":750},17250,{"$f":"IF(A27=\"\",\"\",CEILING(H26+D27+F27,0.05))","v":21016.050000000003},null,{"$f":"IF(J26=\"\",\"\",IF(YEAR('Simulation retraite'!$H$15)-1=YEAR(J26),'Simulation retraite'!$H$15,IF(YEAR('Simulation retraite'!$H$15)-1<YEAR(J26),\"\",(EDATE(J26,12)))))","v":"2044-12-31"},{"$f":"IF(J27=\"\",\"\",YEAR(J27)-YEAR('Simulation retraite'!$B$6))","v":59},360,{"$f":"IF(J27=\"\",\"\",CEILING(Q26*'Simulation retraite'!$F$28*L27/360,0.05))","v":{"$error":"#REF!"}},0.01,{"$f":"IF(J27=\"\",\"\",CEILING(N27*'Simulation retraite'!$B$8/12,0.05)*12*(L27/360))","v":750},{"$error":"#REF!"},{"$error":"#REF!"}]
[{"$f":"IF(A27=\"\",\"\",IF(YEAR('Simulation retraite'!$H$15)-1=YEAR(A27),'Simulation retraite'!$H$15,IF(YEAR('Simulation retraite'!$H$15)-1<YEAR(A27),\"\",(EDATE(A27,12)))))","v":"2045-12-31"},{"$f":"IF(A28=\"\",\"\",YEAR(A28)-YEAR('Simulation retraite'!$B$6))","v":60},360,{"$f":"IF(A28=\"\",\"\",CEILING(H27*'Simulation retraite'!$F$27*C28/360,0.05))","v":367.8},0.01,{"$f":"IF(A28=\"\",\"\",CEILING(E28*'Simulation retraite'!$B$8/12,0.05)*12*(C28/360))","v":750},18000,22133.850000000002,null,{"$f":"IF(J27=\"\",\"\",IF(YEAR('Simulation retraite'!$H$15)-1=YEAR(J27),'Simulation retraite'!$H$15,IF(YEAR('Simulation retraite'!$H$15)-1<YEAR(J27),\"\",(EDATE(J27,12)))))","v":"2045-12-31"},{"$f":"IF(J28=\"\",\"\",YEAR(J28)-YEAR('Simulation retraite'!$B$6))","v":60},360,{"$f":"IF(J28=\"\",\"\",CEILING(Q27*'Simulation retraite'!$F$28*L28/360,0.05))","v":{"$error":"#REF!"}},0.01,{"$f":"IF(J28=\"\",\"\",CEILING(N28*'Simulation retraite'!$B$8/12,0.05)*12*(L28/360))","v":750},{"$error":"#REF!"},{"$error":"#REF!"}]
[{"$f":"IF(A28=\"\",\"\",IF(YEAR('Simulation retraite'!$H$15)-1=YEAR(A28),'Simulation retraite'!$H$15,IF(YEAR('Simulation retraite'!$H$15)-1<YEAR(A28),\"\",(EDATE(A28,12)))))","v":"2046-12-31"},{"$f":"IF(A29=\"\",\"\",YEAR(A29)-YEAR('Simulation retraite'!$B$6))","v":61},360,{"$f":"IF(A29=\"\",\"\",CEILING(H28*'Simulation retraite'!$F$27*C29/360,0.05))","v":387.35},0.01,{"$f":"IF(A29=\"\",\"\",CEILING(E29*'Simulation retraite'!$B$8/12,0.05)*12*(C29/360))","v":750},18750,23271.200000000001,null,{"$f":"IF(J28=\"\",\"\",IF(YEAR('Simulation retraite'!$H$15)-1=YEAR(J28),'Simulation retraite'!$H$15,IF(YEAR('Simulation retraite'!$H$15)-1<YEAR(J28),\"\",(EDATE(J28,12)))))","v":"2046-12-31"},{"$f":"IF(J29=\"\",\"\",YEAR(J29)-YEAR('Simulation retraite'!$B$6))","v":61},360,{"$f":"IF(J29=\"\",\"\",CEILING(Q28*'Simulation retraite'!$F$28*L29/360,0.05))","v":{"$error":"#REF!"}},0.01,{"$f":"IF(J29=\"\",\"\",CEILING(N29*'Simulation retraite'!$B$8/12,0.05)*12*(L29/360))","v":750},{"$error":"#REF!"},{"$error":"#REF!"}]
[{"$f":"IF(A29=\"\",\"\",IF(YEAR('Simulation retraite'!$H$15)-1=YEAR(A29),'Simulation retraite'!$H$15,IF(YEAR('Simulation retraite'!$H$15)-1<YEAR(A29),\"\",(EDATE(A29,12)))))","v":"2047-12-31"},{"$f":"IF(A30=\"\",\"\",YEAR(A30)-YEAR('Simulation retraite'!$B$6))","v":62},360,{"$f":"IF(A30=\"\",\"\",CEILING(H29*'Simulation retraite'!$F$27*C30/360,0.05))","v":407.25},0.01,{"$f":"IF(A30=\"\",\"\",CEILING(E30*'Simulation retraite'!$B$8/12,0.05)*12*(C30/360))","v":750},19500,24428.45,null,{"$f":"IF(J29=\"\",\"\",IF(YEAR('Simulation retraite'!$H$15)-1=YEAR(J29),'Simulation retraite'!$H$15,IF(YEAR('Simulation retraite'!$H$15)-1<YEAR(J29),\"\",(EDATE(J29,12)))))","v":"2047-12-31"},{"$f":"IF(J30=\"\",\"\",YEAR(J30)-YEAR('Simulation retraite'!$B$6))","v":62},360,{"$f":"IF(J30=\"\",\"\",CEILING(Q29*'Simulation retraite'!$F$28*L30/360,0.05))","v":{"$error":"#REF!"}},0.01,{"$f":"IF(J30=\"\",\"\",CEILING(N30*'Simulation retraite'!$B$8/12,0.05)*12*(L30/360))","v":750},{"$error":"#REF!"},{"$error":"#REF!"}]
[{"$f":"IF(A30=\"\",\"\",IF(YEAR('Simulation retraite'!$H$15)-1=YEAR(A30),'Simulation retraite'!$H$15,IF(YEAR('Simulation retraite'!$H$15)-1<YEAR(A30),\"\",(EDATE(A30,12)))))","v":"2048-12-31"},{"$f":"IF(A31=\"\",\"\",YEAR(A31)-YEAR('Simulation retraite'!$B$6))","v":63},360,{"$f":"IF(A31=\"\",\"\",CEILING(H30*'Simulation retraite'!$F$27*C31/360,0.05))","v":427.5},0.01,{"$f":"IF(A31=\"\",\"\",CEILING(E31*'Simulation retraite'!$B$8/12,0.05)*12*(C31/360))","v":750},20250,25605.95,null,{"$f":"IF(J30=\"\",\"\",IF(YEAR('Simulation retraite'!$H$15)-1=YEAR(J30),'Simulation retraite'!$H$15,IF(YEAR('Simulation retraite'!$H$15)-1<YEAR(J30),\"\",(EDATE(J30,12)))))","v":"2048-12-31"},{"$f":"IF(J31=\"\",\"\",YEAR(J31)-YEAR('Simulation retraite'!$B$6))","v":63},360,{"$f":"IF(J31=\"\",\"\",CEILING(Q30*'Simulation retraite'!$F$28*L31/360,0.05))","v":{"$error":"#REF!"}},0.01,{"$f":"IF(J31=\"\",\"\",CEILING(N31*'Simulation retraite'!$B$8/12,0.05)*12*(L31/360))","v":750},{"$error":"#REF!"},{"$error":"#REF!"}]
[{"$f":"IF(A31=\"\",\"\",IF(YEAR('Simulation retraite'!$H$15)-1=YEAR(A31),'Simulation retraite'!$H$15,IF(YEAR('Simulation retraite'!$H$15)-1<YEAR(A31),\"\",(EDATE(A31,12)))))","v":"2049-08-01"},{"$f":"IF(A32=\"\",\"\",YEAR(A32)-YEAR('Simulation retraite'!$B$6))","v":64},210,{"$f":"IF(A32=\"\",\"\",CEILING(H31*'Simulation retraite'!$F$27*C32/360,0.05))","v":261.40000000000003},0.01,{"$f":"IF(A32=\"\",\"\",CEILING(E32*'Simulation retraite'!$B$8/12,0.05)*12*(C32/360))","v":437.5},20687.5,26304.850000000002,null,{"$f":"IF(J31=\"\",\"\",IF(YEAR('Simulation retraite'!$H$15)-1=YEAR(J31),'Simulation retraite'!$H$15,IF(YEAR('Simulation retraite'!$H$15)-1<YEAR(J31),\"\",(EDATE(J31,12)))))","v":"2049-08-01"},{"$f":"IF(J32=\"\",\"\",YEAR(J32)-YEAR('Simulation retraite'!$B$6))","v":64},210,{"$f":"IF(J32=\"\",\"\",CEILING(Q31*'Simulation retraite'!$F$28*L32/360,0.05))","v":{"$error":"#REF!"}},0.01,{"$f":"IF(J32=\"\",\"\",CEILING(N32*'Simulation retraite'!$B$8/12,0.05)*12*(L32/360))","v":437.5},{"$error":"#REF!"},{"$error":"#REF!"}]
[{"$f":"IF(A32=\"\",\"\",IF(YEAR('Simulation retraite'!$H$15)-1=YEAR(A32),'Simulation retraite'!$H$15,IF(YEAR('Simulation retraite'!$H$15)-1<YEAR(A32),\"\",(EDATE(A32,12)))))","v":""},{"$f":"IF(A33=\"\",\"\",YEAR(A33)-YEAR('Simulation retraite'!$B$6))","v":""},"",{"$f":"IF(A33=\"\",\"\",CEILING(H32*'Simulation retraite'!$F$27*C33/360,0.05))","v":""},"",{"$f":"IF(A33=\"\",\"\",CEILING(E33*'Simulation retraite'!$B$8/12,0.05)*12*(C33/360))","v":""},"","",null,{"$f":"IF(J32=\"\",\"\",IF(YEAR('Simulation retraite'!$H$15)-1=YEAR(J32),'Simulation retraite'!$H$15,IF(YEAR('Simulation retraite'!$H$15)-1<YEAR(J32),\"\",(EDATE(J32,12)))))","v":""},{"$f":"IF(J33=\"\",\"\",YEAR(J33)-YEAR('Simulation retraite'!$B$6))","v":""},"",{"$f":"IF(J33=\"\",\"\",CEILING(Q32*'Simulation retraite'!$F$28*L33/360,0.05))","v":""},"",{"$f":"IF(J33=\"\",\"\",CEILING(N33*'Simulation retraite'!$B$8/12,0.05)*12*(L33/360))","v":""},"",""]
[{"$f":"IF(A33=\"\",\"\",IF(YEAR('Simulation retraite'!$H$15)-1=YEAR(A33),'Simulation retraite'!$H$15,IF(YEAR('Simulation retraite'!$H$15)-1<YEAR(A33),\"\",(EDATE(A33,12)))))","v":""},{"$f":"IF(A34=\"\",\"\",YEAR(A34)-YEAR('Simulation retraite'!$B$6))","v":""},{"$f":"IF(A34=\"\",\"\",IF(DAY(A34)=1,DAYS360(A33,A34)-1,DAYS360(A33,A34)))","v":""},{"$f":"IF(A34=\"\",\"\",CEILING(H33*'Simulation retraite'!$F$27*C34/360,0.05))","v":""},"",{"$f":"IF(A34=\"\",\"\",CEILING(E34*'Simulation retraite'!$B$8/12,0.05)*12*(C34/360))","v":""},"","",null,{"$f":"IF(J33=\"\",\"\",IF(YEAR('Simulation retraite'!$H$15)-1=YEAR(J33),'Simulation retraite'!$H$15,IF(YEAR('Simulation retraite'!$H$15)-1<YEAR(J33),\"\",(EDATE(J33,12)))))","v":""},{"$f":"IF(J34=\"\",\"\",YEAR(J34)-YEAR('Simulation retraite'!$B$6))","v":""},{"$f":"IF(J34=\"\",\"\",IF(DAY(J34)=1,DAYS360(J33,J34)-1,DAYS360(J33,J34)))","v":""},{"$f":"IF(J34=\"\",\"\",CEILING(Q33*'Simulation retraite'!$F$28*L34/360,0.05))","v":""},"",{"$f":"IF(J34=\"\",\"\",CEILING(N34*'Simulation retraite'!$B$8/12,0.05)*12*(L34/360))","v":""},{"$f":"IF(J34=\"\",\"\",CEILING(P33+O34,0.05))","v":""},{"$f":"IF(J34=\"\",\"\",CEILING(Q33+M34+O34,0.05))","v":""}]
[{"$f":"IF(A34=\"\",\"\",IF(YEAR('Simulation retraite'!$H$15)-1=YEAR(A34),'Simulation retraite'!$H$15,IF(YEAR('Simulation retraite'!$H$15)-1<YEAR(A34),\"\",(EDATE(A34,12)))))","v":""},{"$f":"IF(A35=\"\",\"\",YEAR(A35)-YEAR('Simulation retraite'!$B$6))","v":""},"",{"$f":"IF(A35=\"\",\"\",CEILING(H34*'Simulation retraite'!$F$27*C35/360,0.05))","v":""},"",{"$f":"IF(A35=\"\",\"\",CEILING(E35*'Simulation retraite'!$B$8/12,0.05)*12*(C35/360))","v":""},"","",null,{"$f":"IF(J34=\"\",\"\",IF(YEAR('Simulation retraite'!$H$15)-1=YEAR(J34),'Simulation retraite'!$H$15,IF(YEAR('Simulation retraite'!$H$15)-1<YEAR(J34),\"\",(EDATE(J34,12)))))","v":""},{"$f":"IF(J35=\"\",\"\",YEAR(J35)-YEAR('Simulation retraite'!$B$6))","v":""},"",{"$f":"IF(J35=\"\",\"\",CEILING(Q34*'Simulation retraite'!$F$28*L35/360,0.05))","v":""},"",{"$f":"IF(J35=\"\",\"\",CEILING(N35*'Simulation retraite'!$B$8/12,0.05)*12*(L35/360))","v":""},"",""]
[{"$f":"IF(A35=\"\",\"\",IF(YEAR('Simulation retraite'!$H$15)-1=YEAR(A35),'Simulation retraite'!$H$15,IF(YEAR('Simulation retraite'!$H$15)-1<YEAR(A35),\"\",(EDATE(A35,12)))))","v":""},{"$f":"IF(A36=\"\",\"\",YEAR(A36)-YEAR('Simulation retraite'!$B$6))","v":""},"",{"$f":"IF(A36=\"\",\"\",CEILING(H35*'Simulation retraite'!$F$27*C36/360,0.05))","v":""},"",{"$f":"IF(A36=\"\",\"\",CEILING(E36*'Simulation retraite'!$B$8/12,0.05)*12*(C36/360))","v":""},"","",null,{"$f":"IF(J35=\"\",\"\",IF(YEAR('Simulation retraite'!$H$15)-1=YEAR(J35),'Simulation retraite'!$H$15,IF(YEAR('Simulation retraite'!$H$15)-1<YEAR(J35),\"\",(EDATE(J35,12)))))","v":""},{"$f":"IF(J36=\"\",\"\",YEAR(J36)-YEAR('Simulation retraite'!$B$6))","v":""},"",{"$f":"IF(J36=\"\",\"\",CEILING(Q35*'Simulation retraite'!$F$28*L36/360,0.05))","v":""},"",{"$f":"IF(J36=\"\",\"\",CEILING(N36*'Simulation retraite'!$B$8/12,0.05)*12*(L36/360))","v":""},"",""]
[{"$f":"IF(A36=\"\",\"\",IF(YEAR('Simulation retraite'!$H$15)-1=YEAR(A36),'Simulation retraite'!$H$15,IF(YEAR('Simulation retraite'!$H$15)-1<YEAR(A36),\"\",(EDATE(A36,12)))))","v":""},{"$f":"IF(A37=\"\",\"\",YEAR(A37)-YEAR('Simulation retraite'!$B$6))","v":""},"",{"$f":"IF(A37=\"\",\"\",CEILING(H36*'Simulation retraite'!$F$27*C37/360,0.05))","v":""},"",{"$f":"IF(A37=\"\",\"\",CEILING(E37*'Simulation retraite'!$B$8/12,0.05)*12*(C37/360))","v":""},{"$f":"IF(A37=\"\",\"\",CEILING(G36+F37,0.05))","v":""},{"$f":"IF(A37=\"\",\"\",CEILING(H36+D37+F37,0.05))","v":""},null,{"$f":"IF(J36=\"\",\"\",IF(YEAR('Simulation retraite'!$H$15)-1=YEAR(J36),'Simulation retraite'!$H$15,IF(YEAR('Simulation retraite'!$H$15)-1<YEAR(J36),\"\",(EDATE(J36,12)))))","v":""},{"$f":"IF(J37=\"\",\"\",YEAR(J37)-YEAR('Simulation retraite'!$B$6))","v":""},"",{"$f":"IF(J37=\"\",\"\",CEILING(Q36*'Simulation retraite'!$F$28*L37/360,0.05))","v":""},"",{"$f":"IF(J37=\"\",\"\",CEILING(N37*'Simulation retraite'!$B$8/12,0.05)*12*(L37/360))","v":""},"",""]
[{"$f":"IF(A37=\"\",\"\",IF(YEAR('Simulation retraite'!$H$15)-1=YEAR(A37),'Simulation retraite'!$H$15,IF(YEAR('Simulation retraite'!$H$15)-1<YEAR(A37),\"\",(EDATE(A37,12)))))","v":""},{"$f":"IF(A38=\"\",\"\",YEAR(A38)-YEAR('Simulation retraite'!$B$6))","v":""},"",{"$f":"IF(A38=\"\",\"\",CEILING(H37*'Simulation retraite'!$F$27*C38/360,0.05))","v":""},"",{"$f":"IF(A38=\"\",\"\",CEILING(E38*'Simulation retraite'!$B$8/12,0.05)*12*(C38/360))","v":""},"","",null,{"$f":"IF(J37=\"\",\"\",IF(YEAR('Simulation retraite'!$H$15)-1=YEAR(J37),'Simulation retraite'!$H$15,IF(YEAR('Simulation retraite'!$H$15)-1<YEAR(J37),\"\",(EDATE(J37,12)))))","v":""},{"$f":"IF(J38=\"\",\"\",YEAR(J38)-YEAR('Simulation retraite'!$B$6))","v":""},"",{"$f":"IF(J38=\"\",\"\",CEILING(Q37*'Simulation retraite'!$F$28*L38/360,0.05))","v":""},"",{"$f":"IF(J38=\"\",\"\",CEILING(N38*'Simulation retraite'!$B$8/12,0.05)*12*(L38/360))","v":""},"",""]
[{"$f":"IF(A38=\"\",\"\",IF(YEAR('Simulation retraite'!$H$15)-1=YEAR(A38),'Simulation retraite'!$H$15,IF(YEAR('Simulation retraite'!$H$15)-1<YEAR(A38),\"\",(EDATE(A38,12)))))","v":""},{"$f":"IF(A39=\"\",\"\",YEAR(A39)-YEAR('Simulation retraite'!$B$6))","v":""},"",{"$f":"IF(A39=\"\",\"\",CEILING(H38*'Simulation retraite'!$F$27*C39/360,0.05))","v":""},"",{"$f":"IF(A39=\"\",\"\",CEILING(E39*'Simulation retraite'!$B$8/12,0.05)*12*(C39/360))","v":""},"","",null,{"$f":"IF(J38=\"\",\"\",IF(YEAR('Simulation retraite'!$H$15)-1=YEAR(J38),'Simulation retraite'!$H$15,IF(YEAR('Simulation retraite'!$H$15)-1<YEAR(J38),\"\",(EDATE(J38,12)))))","v":""},{"$f":"IF(J39=\"\",\"\",YEAR(J39)-YEAR('Simulation retraite'!$B$6))","v":""},"",{"$f":"IF(J39=\"\",\"\",CEILING(Q38*'Simulation retraite'!$F$28*L39/360,0.05))","v":""},"",{"$f":"IF(J39=\"\",\"\",CEILING(N39*'Simulation retraite'!$B$8/12,0.05)*12*(L39/360))","v":""},"",""]
[{"$f":"IF(A39=\"\",\"\",IF(YEAR('Simulation retraite'!$H$15)-1=YEAR(A39),'Simulation retraite'!$H$15,IF(YEAR('Simulation retraite'!$H$15)-1<YEAR(A39),\"\",(EDATE(A39,12)))))","v":""},{"$f":"IF(A40=\"\",\"\",YEAR(A40)-YEAR('Simulation retraite'!$B$6))","v":""},"",{"$f":"IF(A40=\"\",\"\",CEILING(H39*'Simulation retraite'!$F$27*C40/360,0.05))","v":""},"",{"$f":"IF(A40=\"\",\"\",CEILING(E40*'Simulation retraite'!$B$8/12,0.05)*12*(C40/360))","v":""},"","",null,{"$f":"IF(J39=\"\",\"\",IF(YEAR('Simulation retraite'!$H$15)-1=YEAR(J39),'Simulation retraite'!$H$15,IF(YEAR('Simulation retraite'!$H$15)-1<YEAR(J39),\"\",(EDATE(J39,12)))))","v":""},{"$f":"IF(J40=\"\",\"\",YEAR(J40)-YEAR('Simulation retraite'!$B$6))","v":""},"",{"$f":"IF(J40=\"\",\"\",CEILING(Q39*'Simulation retraite'!$F$28*L40/360,0.05))","v":""},"",{"$f":"IF(J40=\"\",\"\",CEILING(N40*'Simulation retraite'!$B$8/12,0.05)*12*(L40/360))","v":""},"",""]
[{"$f":"IF(A40=\"\",\"\",IF(YEAR('Simulation retraite'!$H$15)-1=YEAR(A40),'Simulation retraite'!$H$15,IF(YEAR('Simulation retraite'!$H$15)-1<YEAR(A40),\"\",(EDATE(A40,12)))))","v":""},{"$f":"IF(A41=\"\",\"\",YEAR(A41)-YEAR('Simulation retraite'!$B$6))","v":""},"",{"$f":"IF(A41=\"\",\"\",CEILING(H40*'Simulation retraite'!$F$27*C41/360,0.05))","v":""},"",{"$f":"IF(A41=\"\",\"\",CEILING(E41*'Simulation retraite'!$B$8/12,0.05)*12*(C41/360))","v":""},"","",null,{"$f":"IF(J40=\"\",\"\",IF(YEAR('Simulation retraite'!$H$15)-1=YEAR(J40),'Simulation retraite'!$H$15,IF(YEAR('Simulation retraite'!$H$15)-1<YEAR(J40),\"\",(EDATE(J40,12)))))","v":""},{"$f":"IF(J41=\"\",\"\",YEAR(J41)-YEAR('Simulation retraite'!$B$6))","v":""},"",{"$f":"IF(J41=\"\",\"\",CEILING(Q40*'Simulation retraite'!$F$28*L41/360,0.05))","v":""},"",{"$f":"IF(J41=\"\",\"\",CEILING(N41*'Simulation retraite'!$B$8/12,0.05)*12*(L41/360))","v":""},"",""]
[{"$f":"IF(A41=\"\",\"\",IF(YEAR('Simulation retraite'!$H$15)-1=YEAR(A41),'Simulation retraite'!$H$15,IF(YEAR('Simulation retraite'!$H$15)-1<YEAR(A41),\"\",(EDATE(A41,12)))))","v":""},{"$f":"IF(A42=\"\",\"\",YEAR(A42)-YEAR('Simulation retraite'!$B$6))","v":""},"",{"$f":"IF(A42=\"\",\"\",CEILING(H41*'Simulation retraite'!$F$27*C42/360,0.05))","v":""},"",{"$f":"IF(A42=\"\",\"\",CEILING(E42*'Simulation retraite'!$B$8/12,0.05)*12*(C42/360))","v":""},"","",null,{"$f":"IF(J41=\"\",\"\",IF(YEAR('Simulation retraite'!$H$15)-1=YEAR(J41),'Simulation retraite'!$H$15,IF(YEAR('Simulation retraite'!$H$15)-1<YEAR(J41),\"\",(EDATE(J41,12)))))","v":""},{"$f":"IF(J42=\"\",\"\",YEAR(J42)-YEAR('Simulation retraite'!$B$6))","v":""},"",{"$f":"IF(J42=\"\",\"\",CEILING(Q41*'Simulation retraite'!$F$28*L42/360,0.05))","v":""},"",{"$f":"IF(J42=\"\",\"\",CEILING(N42*'Simulation retraite'!$B$8/12,0.05)*12*(L42/360))","v":""},"",""]
[{"$f":"IF(A42=\"\",\"\",IF(YEAR('Simulation retraite'!$H$15)-1=YEAR(A42),'Simulation retraite'!$H$15,IF(YEAR('Simulation retraite'!$H$15)-1<YEAR(A42),\"\",(EDATE(A42,12)))))","v":""},{"$f":"IF(A43=\"\",\"\",YEAR(A43)-YEAR('Simulation retraite'!$B$6))","v":""},"",{"$f":"IF(A43=\"\",\"\",CEILING(H42*'Simulation retraite'!$F$27*C43/360,0.05))","v":""},"",{"$f":"IF(A43=\"\",\"\",CEILING(E43*'Simulation retraite'!$B$8/12,0.05)*12*(C43/360))","v":""},"","",null,{"$f":"IF(J42=\"\",\"\",IF(YEAR('Simulation retraite'!$H$15)-1=YEAR(J42),'Simulation retraite'!$H$15,IF(YEAR('Simulation retraite'!$H$15)-1<YEAR(J42),\"\",(EDATE(J42,12)))))","v":""},{"$f":"IF(J43=\"\",\"\",YEAR(J43)-YEAR('Simulation retraite'!$B$6))","v":""},"",{"$f":"IF(J43=\"\",\"\",CEILING(Q42*'Simulation retraite'!$F$28*L43/360,0.05))","v":""},"",{"$f":"IF(J43=\"\",\"\",CEILING(N43*'Simulation retraite'!$B$8/12,0.05)*12*(L43/360))","v":""},"",""]
[{"$f":"IF(A43=\"\",\"\",IF(YEAR('Simulation retraite'!$H$15)-1=YEAR(A43),'Simulation retraite'!$H$15,IF(YEAR('Simulation retraite'!$H$15)-1<YEAR(A43),\"\",(EDATE(A43,12)))))","v":""},{"$f":"IF(A44=\"\",\"\",YEAR(A44)-YEAR('Simulation retraite'!$B$6))","v":""},"",{"$f":"IF(A44=\"\",\"\",CEILING(H43*'Simulation retraite'!$F$27*C44/360,0.05))","v":""},"",{"$f":"IF(A44=\"\",\"\",CEILING(E44*'Simulation retraite'!$B$8/12,0.05)*12*(C44/360))","v":""},"","",null,{"$f":"IF(J43=\"\",\"\",IF(YEAR('Simulation retraite'!$H$15)-1=YEAR(J43),'Simulation retraite'!$H$15,IF(YEAR('Simulation retraite'!$H$15)-1<YEAR(J43),\"\",(EDATE(J43,12)))))","v":""},{"$f":"IF(J44=\"\",\"\",YEAR(J44)-YEAR('Simulation retraite'!$B$6))","v":""},"",{"$f":"IF(J44=\"\",\"\",CEILING(Q43*'Simulation retraite'!$F$28*L44/360,0.05))","v":""},"",{"$f":"IF(J44=\"\",\"\",CEILING(N44*'Simulation retraite'!$B$8/12,0.05)*12*(L44/360))","v":""},"",""]
[{"$f":"IF(A44=\"\",\"\",IF(YEAR('Simulation retraite'!$H$15)-1=YEAR(A44),'Simulation retraite'!$H$15,IF(YEAR('Simulation retraite'!$H$15)-1<YEAR(A44),\"\",(EDATE(A44,12)))))","v":""},{"$f":"IF(A45=\"\",\"\",YEAR(A45)-YEAR('Simulation retraite'!$B$6))","v":""},"",{"$f":"IF(A45=\"\",\"\",CEILING(H44*'Simulation retraite'!$F$27*C45/360,0.05))","v":""},"",{"$f":"IF(A45=\"\",\"\",CEILING(E45*'Simulation retraite'!$B$8/12,0.05)*12*(C45/360))","v":""},"","",null,{"$f":"IF(J44=\"\",\"\",IF(YEAR('Simulation retraite'!$H$15)-1=YEAR(J44),'Simulation retraite'!$H$15,IF(YEAR('Simulation retraite'!$H$15)-1<YEAR(J44),\"\",(EDATE(J44,12)))))","v":""},{"$f":"IF(J45=\"\",\"\",YEAR(J45)-YEAR('Simulation retraite'!$B$6))","v":""},"",{"$f":"IF(J45=\"\",\"\",CEILING(Q44*'Simulation retraite'!$F$28*L45/360,0.05))","v":""},"",{"$f":"IF(J45=\"\",\"\",CEILING(N45*'Simulation retraite'!$B$8/12,0.05)*12*(L45/360))","v":""},"",""]
[{"$f":"IF(A45=\"\",\"\",IF(YEAR('Simulation retraite'!$H$15)-1=YEAR(A45),'Simulation retraite'!$H$15,IF(YEAR('Simulation retraite'!$H$15)-1<YEAR(A45),\"\",(EDATE(A45,12)))))","v":""},{"$f":"IF(A46=\"\",\"\",YEAR(A46)-YEAR('Simulation retraite'!$B$6))","v":""},{"$f":"IF(A46=\"\",\"\",IF(DAY(A46)=1,DAYS360(A45,A46)-1,DAYS360(A45,A46)))","v":""},{"$f":"IF(A46=\"\",\"\",CEILING(H45*'Simulation retraite'!$F$27*C46/360,0.05))","v":""},"",{"$f":"IF(A46=\"\",\"\",CEILING(E46*'Simulation retraite'!$B$8/12,0.05)*12*(C46/360))","v":""},"","",null,{"$f":"IF(J45=\"\",\"\",IF(YEAR('Simulation retraite'!$H$15)-1=YEAR(J45),'Simulation retraite'!$H$15,IF(YEAR('Simulation retraite'!$H$15)-1<YEAR(J45),\"\",(EDATE(J45,12)))))","v":""},{"$f":"IF(J46=\"\",\"\",YEAR(J46)-YEAR('Simulation retraite'!$B$6))","v":""},{"$f":"IF(J46=\"\",\"\",IF(DAY(J46)=1,DAYS360(J45,J46)-1,DAYS360(J45,J46)))","v":""},{"$f":"IF(J46=\"\",\"\",CEILING(Q45*'Simulation retraite'!$F$28*L46/360,0.05))","v":""},"",{"$f":"IF(J46=\"\",\"\",CEILING(N46*'Simulation retraite'!$B$8/12,0.05)*12*(L46/360))","v":""},{"$f":"IF(J46=\"\",\"\",CEILING(P45+O46,0.05))","v":""},{"$f":"IF(J46=\"\",\"\",CEILING(Q45+M46+O46,0.05))","v":""}]
[{"$f":"IF(A46=\"\",\"\",IF(YEAR('Simulation retraite'!$H$15)-1=YEAR(A46),'Simulation retraite'!$H$15,IF(YEAR('Simulation retraite'!$H$15)-1<YEAR(A46),\"\",(EDATE(A46,12)))))","v":""},{"$f":"IF(A47=\"\",\"\",YEAR(A47)-YEAR('Simulation retraite'!$B$6))","v":""},"",{"$f":"IF(A47=\"\",\"\",CEILING(H46*'Simulation retraite'!$F$27*C47/360,0.05))","v":""},"",{"$f":"IF(A47=\"\",\"\",CEILING(E47*'Simulation retraite'!$B$8/12,0.05)*12*(C47/360))","v":""},"","",null,{"$f":"IF(J46=\"\",\"\",IF(YEAR('Simulation retraite'!$H$15)-1=YEAR(J46),'Simulation retraite'!$H$15,IF(YEAR('Simulation retraite'!$H$15)-1<YEAR(J46),\"\",(EDATE(J46,12)))))","v":""},{"$f":"IF(J47=\"\",\"\",YEAR(J47)-YEAR('Simulation retraite'!$B$6))","v":""},"",{"$f":"IF(J47=\"\",\"\",CEILING(Q46*'Simulation retraite'!$F$28*L47/360,0.05))","v":""},"",{"$f":"IF(J47=\"\",\"\",CEILING(N47*'Simulation retraite'!$B$8/12,0.05)*12*(L47/360))","v":""},"",""]
[{"$f":"IF(A47=\"\",\"\",IF(YEAR('Simulation retraite'!$H$15)-1=YEAR(A47),'Simulation retraite'!$H$15,IF(YEAR('Simulation retraite'!$H$15)-1<YEAR(A47),\"\",(EDATE(A47,12)))))","v":""},{"$f":"IF(A48=\"\",\"\",YEAR(A48)-YEAR('Simulation retraite'!$B$6))","v":""},"",{"$f":"IF(A48=\"\",\"\",CEILING(H47*'Simulation retraite'!$F$27*C48/360,0.05))","v":""},"",{"$f":"IF(A48=\"\",\"\",CEILING(E48*'Simulation retraite'!$B$8/12,0.05)*12*(C48/360))","v":""},"","",null,{"$f":"IF(J47=\"\",\"\",IF(YEAR('Simulation retraite'!$H$15)-1=YEAR(J47),'Simulation retraite'!$H$15,IF(YEAR('Simulation retraite'!$H$15)-1<YEAR(J47),\"\",(EDATE(J47,12)))))","v":""},{"$f":"IF(J48=\"\",\"\",YEAR(J48)-YEAR('Simulation retraite'!$B$6))","v":""},"",{"$f":"IF(J48=\"\",\"\",CEILING(Q47*'Simulation retraite'!$F$28*L48/360,0.05))","v":""},"",{"$f":"IF(J48=\"\",\"\",CEILING(N48*'Simulation retraite'!$B$8/12,0.05)*12*(L48/360))","v":""},"",""]
[{"$f":"IF(A48=\"\",\"\",IF(YEAR('Simulation retraite'!$H$15)-1=YEAR(A48),'Simulation retraite'!$H$15,IF(YEAR('Simulation retraite'!$H$15)-1<YEAR(A48),\"\",(EDATE(A48,12)))))","v":""},{"$f":"IF(A49=\"\",\"\",YEAR(A49)-YEAR('Simulation retraite'!$B$6))","v":""},"",{"$f":"IF(A49=\"\",\"\",CEILING(H48*'Simulation retraite'!$F$27*C49/360,0.05))","v":""},"",{"$f":"IF(A49=\"\",\"\",CEILING(E49*'Simulation retraite'!$B$8/12,0.05)*12*(C49/360))","v":""},"","",null,{"$f":"IF(J48=\"\",\"\",IF(YEAR('Simulation retraite'!$H$15)-1=YEAR(J48),'Simulation retraite'!$H$15,IF(YEAR('Simulation retraite'!$H$15)-1<YEAR(J48),\"\",(EDATE(J48,12)))))","v":""},{"$f":"IF(J49=\"\",\"\",YEAR(J49)-YEAR('Simulation retraite'!$B$6))","v":""},"",{"$f":"IF(J49=\"\",\"\",CEILING(Q48*'Simulation retraite'!$F$28*L49/360,0.05))","v":""},"",{"$f":"IF(J49=\"\",\"\",CEILING(N49*'Simulation retraite'!$B$8/12,0.05)*12*(L49/360))","v":""},"",""]
[{"$f":"IF(A49=\"\",\"\",IF(YEAR('Simulation retraite'!$H$15)-1=YEAR(A49),'Simulation retraite'!$H$15,IF(YEAR('Simulation retraite'!$H$15)-1<YEAR(A49),\"\",(EDATE(A49,12)))))","v":""},{"$f":"IF(A50=\"\",\"\",YEAR(A50)-YEAR('Simulation retraite'!$B$6))","v":""},"",{"$f":"IF(A50=\"\",\"\",CEILING(H49*'Simulation retraite'!$F$27*C50/360,0.05))","v":""},"",{"$f":"IF(A50=\"\",\"\",CEILING(E50*'Simulation retraite'!$B$8/12,0.05)*12*(C50/360))","v":""},"","",null,{"$f":"IF(J49=\"\",\"\",IF(YEAR('Simulation retraite'!$H$15)-1=YEAR(J49),'Simulation retraite'!$H$15,IF(YEAR('Simulation retraite'!$H$15)-1<YEAR(J49),\"\",(EDATE(J49,12)))))","v":""},{"$f":"IF(J50=\"\",\"\",YEAR(J50)-YEAR('Simulation retraite'!$B$6))","v":""},"",{"$f":"IF(J50=\"\",\"\",CEILING(Q49*'Simulation retraite'!$F$28*L50/360,0.05))","v":""},"",{"$f":"IF(J50=\"\",\"\",CEILING(N50*'Simulation retraite'!$B$8/12,0.05)*12*(L50/360))","v":""},"",""]
[{"$f":"IF(A50=\"\",\"\",IF(YEAR('Simulation retraite'!$H$15)-1=YEAR(A50),'Simulation retraite'!$H$15,IF(YEAR('Simulation retraite'!$H$15)-1<YEAR(A50),\"\",(EDATE(A50,12)))))","v":""},{"$f":"IF(A51=\"\",\"\",YEAR(A51)-YEAR('Simulation retraite'!$B$6))","v":""},"",{"$f":"IF(A51=\"\",\"\",CEILING(H50*'Simulation retraite'!$F$27*C51/360,0.05))","v":""},"",{"$f":"IF(A51=\"\",\"\",CEILING(E51*'Simulation retraite'!$B$8/12,0.05)*12*(C51/360))","v":""},"","",null,{"$f":"IF(J50=\"\",\"\",IF(YEAR('Simulation retraite'!$H$15)-1=YEAR(J50),'Simulation retraite'!$H$15,IF(YEAR('Simulation retraite'!$H$15)-1<YEAR(J50),\"\",(EDATE(J50,12)))))","v":""},{"$f":"IF(J51=\"\",\"\",YEAR(J51)-YEAR('Simulation retraite'!$B$6))","v":""},"",{"$f":"IF(J51=\"\",\"\",CEILING(Q50*'Simulation retraite'!$F$28*L51/360,0.05))","v":""},"",{"$f":"IF(J51=\"\",\"\",CEILING(N51*'Simulation retraite'!$B$8/12,0.05)*12*(L51/360))","v":""},"",""]
[{"$f":"IF(A51=\"\",\"\",IF(YEAR('Simulation retraite'!$H$15)-1=YEAR(A51),'Simulation retraite'!$H$15,IF(YEAR('Simulation retraite'!$H$15)-1<YEAR(A51),\"\",(EDATE(A51,12)))))","v":""},{"$f":"IF(A52=\"\",\"\",YEAR(A52)-YEAR('Simulation retraite'!$B$6))","v":""},"",{"$f":"IF(A52=\"\",\"\",CEILING(H51*'Simulation retraite'!$F$27*C52/360,0.05))","v":""},"",{"$f":"IF(A52=\"\",\"\",CEILING(E52*'Simulation retraite'!$B$8/12,0.05)*12*(C52/360))","v":""},"","",null,{"$f":"IF(J51=\"\",\"\",IF(YEAR('Simulation retraite'!$H$15)-1=YEAR(J51),'Simulation retraite'!$H$15,IF(YEAR('Simulation retraite'!$H$15)-1<YEAR(J51),\"\",(EDATE(J51,12)))))","v":""},{"$f":"IF(J52=\"\",\"\",YEAR(J52)-YEAR('Simulation retraite'!$B$6))","v":""},{"$f":"IF(J52=\"\",\"\",IF(DAY(J52)=1,DAYS360(J51,J52)-1,DAYS360(J51,J52)))","v":""},{"$f":"IF(J52=\"\",\"\",CEILING(Q51*'Simulation retraite'!$F$28*L52/360,0.05))","v":""},"",{"$f":"IF(J52=\"\",\"\",CEILING(N52*'Simulation retraite'!$B$8/12,0.05)*12*(L52/360))","v":""},"",""]
[{"$f":"IF(A52=\"\",\"\",IF(YEAR('Simulation retraite'!$H$15)-1=YEAR(A52),'Simulation retraite'!$H$15,IF(YEAR('Simulation retraite'!$H$15)-1<YEAR(A52),\"\",(EDATE(A52,12)))))","v":""},{"$f":"IF(A53=\"\",\"\",YEAR(A53)-YEAR('Simulation retraite'!$B$6))","v":""},"",{"$f":"IF(A53=\"\",\"\",CEILING(H52*'Simulation retraite'!$F$27*C53/360,0.05))","v":""},"",{"$f":"IF(A53=\"\",\"\",CEILING(E53*'Simulation retraite'!$B$8/12,0.05)*12*(C53/360))","v":""},"","",null,{"$f":"IF(J52=\"\",\"\",IF(YEAR('Simulation retraite'!$H$15)-1=YEAR(J52),'Simulation retraite'!$H$15,IF(YEAR('Simulation retraite'!$H$15)-1<YEAR(J52),\"\",(EDATE(J52,12)))))","v":""},{"$f":"IF(J53=\"\",\"\",YEAR(J53)-YEAR('Simulation retraite'!$B$6))","v":""},"",{"$f":"IF(J53=\"\",\"\",CEILING(Q52*'Simulation retraite'!$F$28*L53/360,0.05))","v":""},"",{"$f":"IF(J53=\"\",\"\",CEILING(N53*'Simulation retraite'!$B$8/12,0.05)*12*(L53/360))","v":""},"",""]
[{"$f":"IF(A53=\"\",\"\",IF(YEAR('Simulation retraite'!$H$15)-1=YEAR(A53),'Simulation retraite'!$H$15,IF(YEAR('Simulation retraite'!$H$15)-1<YEAR(A53),\"\",(EDATE(A53,12)))))","v":""},{"$f":"IF(A54=\"\",\"\",YEAR(A54)-YEAR('Simulation retraite'!$B$6))","v":""},"",{"$f":"IF(A54=\"\",\"\",CEILING(H53*'Simulation retraite'!$F$27*C54/360,0.05))","v":""},"",{"$f":"IF(A54=\"\",\"\",CEILING(E54*'Simulation retraite'!$B$8/12,0.05)*12*(C54/360))","v":""},"","",null,{"$f":"IF(J53=\"\",\"\",IF(YEAR('Simulation retraite'!$H$15)-1=YEAR(J53),'Simulation retraite'!$H$15,IF(YEAR('Simulation retraite'!$H$15)-1<YEAR(J53),\"\",(EDATE(J53,12)))))","v":""},{"$f":"IF(J54=\"\",\"\",YEAR(J54)-YEAR('Simulation retraite'!$B$6))","v":""},{"$f":"IF(J54=\"\",\"\",IF(DAY(J54)=1,DAYS360(J53,J54)-1,DAYS360(J53,J54)))","v":""},{"$f":"IF(J54=\"\",\"\",CEILING(Q53*'Simulation retraite'!$F$28*L54/360,0.05))","v":""},"",{"$f":"IF(J54=\"\",\"\",CEILING(N54*'Simulation retraite'!$B$8/12,0.05)*12*(L54/360))","v":""},"",""]

{"sheet":"Para_simu","index":2,"n_rows":55,"n_cols":26,"rows_kept":55,"cut":false,"hidden":true,"merged":[]}
["Age","Taux de bonifications Base","Taux de bonifications PPP","Taux de bonifications Base 2024","Taux de bonifications PPP 2024","Taux de bonifications Base - Epargne +","Taux de bonifications PPP - Epargne +","Taux de bonifications Base 2024 - Epargne +","Taux de bonifications PPP 2024 - Epargne +","Age de retraite","Taux de conversion","Sexe","Collectif","Epargne+","Projection","Age","Cotisation totale Base 2022","Cotisation totale PPP 2022","Cotisation totale Base dès 2023","Cotisation totale PPP dès 2023","Cotisation totale Base - Epargne + dès 2022","Cotisation totale PPP - Epargne + dès 2022","Cotisation totale Base - Epargne + dès 2023","Cotisation totale PPP - Epargne + dès 2023","Choix assurance",2.2800000000000001E-2]
[17,0,0,0,0,0,0,0,0,58,4.6199999999999998E-2,"Masculin","Base","non",{"$f":"\"Prestations selon l'hypothèse d'intérêt de \"&TEXT('Simulation retraite'!$F$27,\"0.0%\")","v":"Prestations selon l'hypothèse d'intérêt de 1.8%"},18,7.6E-3,7.6E-3,7.6E-3,7.6E-3,7.6E-3,7.6E-3,7.6E-3,7.6E-3,"risques"]
[18,0,0,0,0,0,0,0,0,59,4.7300000000000002E-2,"Féminin","PPP","oui",{"$f":"\"Prestations selon l'hypothèse d'intérêt de \"&TEXT('Simulation retraite'!$F$27,\"0.0%\")","v":"Prestations selon l'hypothèse d'intérêt de 1.8%"},19,7.6E-3,7.6E-3,7.6E-3,7.6E-3,7.6E-3,7.6E-3,7.6E-3,7.6E-3,"risques et épargne"]
[19,0,0,0,0,0,0,0,0,60,4.8500000000000001E-2,null,null,null,{"$f":"\"Prestations selon l'hypothèse d'intérêt de \"&TEXT('Simulation retraite'!$F$28,\"0.0%\")","v":"Prestations selon l'hypothèse d'intérêt de 1.8%"},20,8.8499999999999995E-2,0.114,8.6999999999999994E-2,0.1125,9.849999999999999E-2,0.124,9.6999999999999989E-2,0.1225]
[20,null,null,null,null,null,null,null,null,61,4.9700000000000001E-2,null,null,null,null,21,8.8499999999999995E-2,0.114,8.6999999999999994E-2,0.1125,9.849999999999999E-2,0.124,9.6999999999999989E-2,0.1225]
[21,null,null,null,null,null,null,null,null,62,5.11E-2,null,null,null,null,22,8.8499999999999995E-2,0.114,8.6999999999999994E-2,0.1125,9.849999999999999E-2,0.124,9.6999999999999989E-2,0.1225]
[22,null,null,null,null,null,null,null,null,63,5.2400000000000002E-2,null,null,null,null,23,8.8499999999999995E-2,0.114,8.6999999999999994E-2,0.1125,9.849999999999999E-2,0.124,9.6999999999999989E-2,0.1225]
[23,null,null,null,null,null,null,null,null,64,5.4100000000000002E-2,null,null,null,null,24,8.8499999999999995E-2,0.114,8.6999999999999994E-2,0.1125,9.849999999999999E-2,0.124,9.6999999999999989E-2,0.1225]
[24,null,null,null,null,null,null,null,null,65,5.5500000000000001E-2,null,null,null,null,25,8.8499999999999995E-2,0.114,8.6999999999999994E-2,0.1125,9.849999999999999E-2,0.124,9.6999999999999989E-2,0.1225]
[25,null,null,null,null,null,null,null,null,66,5.7200000000000001E-2,null,null,null,null,26,8.8499999999999995E-2,0.114,8.6999999999999994E-2,0.1125,9.849999999999999E-2,0.124,9.6999999999999989E-2,0.1225]
[26,null,null,null,null,null,null,null,null,67,5.8999999999999997E-2,null,null,null,null,27,8.8499999999999995E-2,0.114,8.6999999999999994E-2,0.1125,9.849999999999999E-2,0.124,9.6999999999999989E-2,0.1225]
[27,null,null,null,null,null,null,null,null,68,6.0999999999999999E-2,null,null,null,null,28,8.8499999999999995E-2,0.114,8.6999999999999994E-2,0.1125,9.849999999999999E-2,0.124,9.6999999999999989E-2,0.1225]
[28,null,null,null,null,null,null,null,null,69,6.3100000000000003E-2,null,null,null,null,29,8.8499999999999995E-2,0.114,8.6999999999999994E-2,0.1125,9.849999999999999E-2,0.124,9.6999999999999989E-2,0.1225]
[29,null,null,null,null,null,null,null,null,70,6.54E-2,null,null,null,null,30,9.35E-2,0.11899999999999999,9.1999999999999998E-2,0.11749999999999999,0.10349999999999999,0.129,0.10199999999999999,0.1275]
[30,null,null,null,null,null,null,null,null,null,null,null,null,null,null,31,9.35E-2,0.11899999999999999,9.1999999999999998E-2,0.11749999999999999,0.10349999999999999,0.129,0.10199999999999999,0.1275]
[31,null,null,null,null,null,null,null,null,null,null,null,null,null,null,32,9.35E-2,0.11899999999999999,9.1999999999999998E-2,0.11749999999999999,0.10349999999999999,0.129,0.10199999999999999,0.1275]
[32,null,null,null,null,null,null,null,null,null,null,null,null,null,null,33,9.35E-2,0.11899999999999999,9.1999999999999998E-2,0.11749999999999999,0.10349999999999999,0.129,0.10199999999999999,0.1275]
[33,null,null,null,null,null,null,null,null,null,null,null,null,null,null,34,9.35E-2,0.11899999999999999,9.1999999999999998E-2,0.11749999999999999,0.10349999999999999,0.129,0.10199999999999999,0.1275]
[34,null,null,null,null,null,null,null,null,null,null,null,null,null,null,35,9.35E-2,0.11899999999999999,9.1999999999999998E-2,0.11749999999999999,0.10349999999999999,0.129,0.10199999999999999,0.1275]
[35,null,null,null,null,null,null,null,null,null,null,null,null,null,null,36,9.35E-2,0.11899999999999999,9.1999999999999998E-2,0.11749999999999999,0.10349999999999999,0.129,0.10199999999999999,0.1275]
[36,null,null,null,null,null,null,null,null,null,null,null,null,null,null,37,9.35E-2,0.11899999999999999,9.1999999999999998E-2,0.11749999999999999,0.10349999999999999,0.129,0.10199999999999999,0.1275]
[37,null,null,null,null,null,null,null,null,null,null,null,null,null,null,38,9.35E-2,0.11899999999999999,9.1999999999999998E-2,0.11749999999999999,0.10349999999999999,0.129,0.10199999999999999,0.1275]
[38,null,null,null,null,null,null,null,null,null,null,null,null,null,null,39,9.35E-2,0.11899999999999999,9.1999999999999998E-2,0.11749999999999999,0.10349999999999999,0.129,0.10199999999999999,0.1275]
[39,null,null,null,null,null,null,null,null,null,null,null,null,null,null,40,0.1,0.1255,9.8000000000000004E-2,0.1235,0.11,0.13550000000000001,0.108,0.13350000000000001]
[40,null,null,null,null,null,null,null,null,null,null,null,null,null,null,41,0.1,0.1255,9.8000000000000004E-2,0.1235,0.11,0.13550000000000001,0.108,0.13350000000000001]
[41,null,null,null,null,null,null,null,null,null,null,null,null,null,null,42,0.1,0.1255,9.8000000000000004E-2,0.1235,0.11,0.13550000000000001,0.108,0.13350000000000001]
[42,null,null,null,null,null,null,null,null,null,null,null,null,null,null,43,0.1,0.1255,9.8000000000000004E-2,0.1235,0.11,0.13550000000000001,0.108,0.13350000000000001]
[43,null,null,null,null,null,null,null,null,null,null,null,null,null,null,44,0.1,0.1255,9.8000000000000004E-2,0.1235,0.11,0.13550000000000001,0.108,0.13350000000000001]
[44,null,null,null,null,null,null,null,null,null,null,null,null,null,null,45,0.1,0.1255,9.8000000000000004E-2,0.1235,0.11,0.13550000000000001,0.108,0.13350000000000001]
[45,null,null,null,null,null,null,null,null,null,null,null,null,null,null,46,0.1,0.1255,9.8000000000000004E-2,0.1235,0.11,0.13550000000000001,0.108,0.13350000000000001]
[46,null,null,null,null,null,null,null,null,null,null,null,null,null,null,47,0.1,0.1255,9.8000000000000004E-2,0.1235,0.11,0.13550000000000001,0.108,0.13350000000000001]
[47,null,null,null,null,null,null,null,null,null,null,null,null,null,null,48,0.1,0.1255,9.8000000000000004E-2,0.1235,0.11,0.13550000000000001,0.108,0.13350000000000001]
[48,null,null,null,null,null,null,null,null,null,null,null,null,null,null,49,0.1,0.1255,9.8000000000000004E-2,0.1235,0.11,0.13550000000000001,0.108,0.13350000000000001]
[49,null,null,null,null,null,null,null,null,null,null,null,null,null,null,50,0.109,0.13450000000000001,0.106,0.13150000000000001,0.11899999999999999,0.14450000000000002,0.11599999999999999,0.14150000000000001]
[50,null,null,null,null,null,null,null,null,null,null,null,null,null,null,51,0.109,0.13450000000000001,0.106,0.13150000000000001,0.11899999999999999,0.14450000000000002,0.11599999999999999,0.14150000000000001]
[51,null,null,null,null,null,null,null,null,null,null,null,null,null,null,52,0.109,0.13450000000000001,0.106,0.13150000000000001,0.11899999999999999,0.14450000000000002,0.11599999999999999,0.14150000000000001]
[52,null,null,null,null,null,null,null,null,null,null,null,null,null,null,53,0.109,0.13450000000000001,0.106,0.13150000000000001,0.11899999999999999,0.14450000000000002,0.11599999999999999,0.14150000000000001]
[53,null,null,null,null,null,null,null,null,null,null,null,null,null,null,54,0.109,0.13450000000000001,0.106,0.13150000000000001,0.11899999999999999,0.14450000000000002,0.11599999999999999,0.14150000000000001]
[54,null,null,null,null,null,null,null,null,null,null,null,null,null,null,55,0.109,0.13450000000000001,0.106,0.13150000000000001,0.11899999999999999,0.14450000000000002,0.11599999999999999,0.14150000000000001]
[55,null,null,null,null,null,null,null,null,null,null,null,null,null,null,56,0.109,0.13450000000000001,0.106,0.13150000000000001,0.11899999999999999,0.14450000000000002,0.11599999999999999,0.14150000000000001]
[56,null,null,null,null,null,null,null,null,null,null,null,null,null,null,57,0.109,0.13450000000000001,0.106,0.13150000000000001,0.11899999999999999,0.14450000000000002,0.11599999999999999,0.14150000000000001]
[57,null,null,null,null,null,null,null,null,null,null,null,null,null,null,58,0.109,0.13450000000000001,0.106,0.13150000000000001,0.11899999999999999,0.14450000000000002,0.11599999999999999,0.14150000000000001]
[58,null,null,null,null,null,null,null,null,null,null,null,null,null,null,59,0.109,0.13450000000000001,0.106,0.13150000000000001,0.11899999999999999,0.14450000000000002,0.11599999999999999,0.14150000000000001]
[59,null,null,null,null,null,null,null,null,null,null,null,null,null,null,60,0.1115,0.13700000000000001,0.108,0.13350000000000001,0.1215,0.14700000000000002,0.11799999999999999,0.14350000000000002]
[60,null,null,null,null,null,null,null,null,null,null,null,null,null,null,61,0.1115,0.13700000000000001,0.108,0.13350000000000001,0.1215,0.14700000000000002,0.11799999999999999,0.14350000000000002]
[61,null,null,null,null,null,null,null,null,null,null,null,null,null,null,62,0.1115,0.13700000000000001,0.108,0.13350000000000001,0.1215,0.14700000000000002,0.11799999999999999,0.14350000000000002]
[62,null,null,null,null,null,null,null,null,null,null,null,null,null,null,63,0.1115,0.13700000000000001,0.108,0.13350000000000001,0.1215,0.14700000000000002,0.11799999999999999,0.14350000000000002]
[63,null,null,null,null,null,null,null,null,null,null,null,null,null,null,64,0.1115,0.13700000000000001,0.108,0.13350000000000001,0.1215,0.14700000000000002,0.11799999999999999,0.14350000000000002]
[64,null,null,null,null,null,null,null,null,null,null,null,null,null,null,65,0.1115,0.13700000000000001,0.108,0.13350000000000001,0.1215,0.14700000000000002,0.11799999999999999,0.14350000000000002]
[65,null,null,null,null,null,null,null,null,null,null,null,null,null,null,66,0.1115,0.13700000000000001,0.108,0.13350000000000001,0.1215,0.14700000000000002,0.11799999999999999,0.14350000000000002]
[66,null,null,null,null,null,null,null,null,null,null,null,null,null,null,67,0.1115,0.13700000000000001,0.108,0.13350000000000001,0.1215,0.14700000000000002,0.11799999999999999,0.14350000000000002]
[67,null,null,null,null,null,null,null,null,null,null,null,null,null,null,68,0.1115,0.13700000000000001,0.108,0.13350000000000001,0.1215,0.14700000000000002,0.11799999999999999,0.14350000000000002]
[68,null,null,null,null,null,null,null,null,null,null,null,null,null,null,69,0.1115,0.13700000000000001,0.108,0.13350000000000001,0.1215,0.14700000000000002,0.11799999999999999,0.14350000000000002]
[69,null,null,null,null,null,null,null,null,null,null,null,null,null,null,70,0.1115,0.13700000000000001,0.108,0.13350000000000001,0.1215,0.14700000000000002,0.11799999999999999,0.14350000000000002]
[70]